BEGIN:VCALENDAR
VERSION:2.0
PRODID:-//Ludwig Van Montreal - ECPv5.9.1//NONSGML v1.0//EN
CALSCALE:GREGORIAN
METHOD:PUBLISH
X-WR-CALNAME:Ludwig Van Montreal
X-ORIGINAL-URL:https://www.ludwig-van.com/montreal
X-WR-CALDESC:évènements pour Ludwig Van Montreal
BEGIN:VTIMEZONE
TZID:America/Toronto
BEGIN:DAYLIGHT
TZOFFSETFROM:-0500
TZOFFSETTO:-0400
TZNAME:EDT
DTSTART:20240310T070000
END:DAYLIGHT
BEGIN:STANDARD
TZOFFSETFROM:-0400
TZOFFSETTO:-0500
TZNAME:EST
DTSTART:20241103T060000
END:STANDARD
END:VTIMEZONE
BEGIN:VEVENT
DTSTART;TZID=America/Toronto:20240515T193000
DTEND;TZID=America/Toronto:20240515T213000
DTSTAMP:20260419T235820
CREATED:20231111T210213Z
LAST-MODIFIED:20231111T210213Z
UID:78883-1715801400-1715808600@www.ludwig-van.com
SUMMARY:Arte Musica - Salle Bourgie | Myriam Leblanc\, soprano & Romain Pollet\, piano - Paris à la Belle Époque
DESCRIPTION:La Belle Époque est à l’honneur avec des mélodies de trois compositeurs dont les parcours se sont entrecroisés\, parmi lesquels Gabriel Fauré et Théodore Dubois\, tous deux directeurs du Conservatoire de Paris et décédés en 1924. Les Mélodies persanes de Camille Saint-Saëns\, qui fut le maître de Fauré\, compléteront le programme.
URL:https://www.ludwig-van.com/montreal/event/arte-musica-salle-bourgie-myriam-leblanc-soprano-romain-pollet-piano-paris-la-belle-epoque/
LOCATION:Salle Bourgie\, 1339 rue Sherbrooke Ouest\, Montréal\, Québec\, H3G 1G2\, Canada
CATEGORIES:Vocal
ATTACH;FMTTYPE=image/png:https://www.ludwig-van.com/montreal/wp-content/uploads/sites/3/2023/11/Myriam-Leblanc_Romain-Pollet.png
GEO:45.4991991;-73.57963
X-APPLE-STRUCTURED-LOCATION;VALUE=URI;X-ADDRESS=Salle Bourgie 1339 rue Sherbrooke Ouest Montréal Québec H3G 1G2 Canada;X-APPLE-RADIUS=500;X-TITLE=1339 rue Sherbrooke Ouest:geo:-73.57963,45.4991991
END:VEVENT
BEGIN:VEVENT
DTSTART;TZID=America/Toronto:20240515T193000
DTEND;TZID=America/Toronto:20240515T213000
DTSTAMP:20260419T235820
CREATED:20231130T222721Z
LAST-MODIFIED:20231130T222721Z
UID:79126-1715801400-1715808600@www.ludwig-van.com
SUMMARY:Orchestre symphonique de Laval | L'Orchestre virtuose
DESCRIPTION:Dans le but de vous faire découvrir les excellent.e.s musicien.ne.s de votre orchestre\, l’OSL vous propose\, pour clore la saison 2023-2024\, les Variations Enigma d’Elgar dirigées par le chef chevronné Jacques Lacombe\, ainsi que le romantique Premier concerto pour violoncelle de Saint-Saëns interprété par le brillant violoncelliste Stéphane Tétreault ; le reste du programme met spécialement en vedette les différentes sections de l’orchestre.
URL:https://www.ludwig-van.com/montreal/event/orchestre-symphonique-de-laval-lorchestre-virtuose/
LOCATION:Salle André-Mathieu\, 475 Boulevard de l'Avenir\, Laval\, Québec\, H7N 5H9\, Canada
CATEGORIES:Orchestra
ATTACH;FMTTYPE=image/png:https://www.ludwig-van.com/montreal/wp-content/uploads/sites/3/2023/11/OSL_Virtuose.png
GEO:45.5599926;-73.7188476
X-APPLE-STRUCTURED-LOCATION;VALUE=URI;X-ADDRESS=Salle André-Mathieu 475 Boulevard de l'Avenir Laval Québec H7N 5H9 Canada;X-APPLE-RADIUS=500;X-TITLE=475 Boulevard de l'Avenir:geo:-73.7188476,45.5599926
END:VEVENT
BEGIN:VEVENT
DTSTART;TZID=America/Toronto:20240515T193000
DTEND;TZID=America/Toronto:20240515T213000
DTSTAMP:20260419T235820
CREATED:20231203T202047Z
LAST-MODIFIED:20231203T202047Z
UID:79211-1715801400-1715808600@www.ludwig-van.com
SUMMARY:Orchestre symphonique de Drummondville | Bach\, Mozart\, Strauss et Mathieu
DESCRIPTION:Compositeurs de père en fils \nPlusieurs musiciens de père en fils ont marqué l’histoire: Leopold et Amadeus Mozart\, J.S. Bach et ses enfants\, Johann Strauss et Johann Strauss II\, puis\, plus près de nous\, Rodolphe et André Mathieu\, en sont des exemples. Entre bienveillance\, rivalité et pression\, admiration et apprentissage\, comment se sont tissées ces relations? Explorez ces duos singuliers avec le pianiste Jean-Michel Dubé et un quatuor à cordes de l’OSD. \nPour les billets\, composez le 819 293-4646 \n 
URL:https://www.ludwig-van.com/montreal/event/orchestre-symphonique-de-drummondville-bach-mozart-strauss-et-mathieu/
LOCATION:Centre des arts populaires de Nicolet\, 725 Blvd Louis Fréchette\, Nicolet\, Québec\, J3T 1L6\, Canada
CATEGORIES:Orchestra
ATTACH;FMTTYPE=image/png:https://www.ludwig-van.com/montreal/wp-content/uploads/sites/3/2023/12/Bach-Mozart-Strauss-et-Mathieu.png
END:VEVENT
END:VCALENDAR