BEGIN:VCALENDAR
VERSION:2.0
PRODID:-//Ludwig Van Montreal - ECPv5.9.1//NONSGML v1.0//EN
CALSCALE:GREGORIAN
METHOD:PUBLISH
X-WR-CALNAME:Ludwig Van Montreal
X-ORIGINAL-URL:https://www.ludwig-van.com/montreal
X-WR-CALDESC:évènements pour Ludwig Van Montreal
BEGIN:VTIMEZONE
TZID:America/Toronto
BEGIN:DAYLIGHT
TZOFFSETFROM:-0500
TZOFFSETTO:-0400
TZNAME:EDT
DTSTART:20240310T070000
END:DAYLIGHT
BEGIN:STANDARD
TZOFFSETFROM:-0400
TZOFFSETTO:-0500
TZNAME:EST
DTSTART:20241103T060000
END:STANDARD
END:VTIMEZONE
BEGIN:VEVENT
DTSTART;TZID=America/Toronto:20240514T193000
DTEND;TZID=America/Toronto:20240514T213000
DTSTAMP:20260420T013423
CREATED:20231111T205237Z
LAST-MODIFIED:20231111T205237Z
UID:78880-1715715000-1715722200@www.ludwig-van.com
SUMMARY:Arte Musica - Salle Bourgie | Bruce Liu en récital (complet)
DESCRIPTION:Fort de sa victoire au 18e Concours international de piano Frédéric-Chopin\, Bruce Liu revient d’une vaste tournée internationale et se produit pour la première fois à la Salle Bourgie. Il interprétera\, entre autres\, la Sonate pour piano n° 2 de Chopin et la Sonate pour piano n°7 de Prokofiev. Un événement à ne pas manquer ! \nZhan Hong Xiao\, étudiant en piano au Conservatoire de musique de Montréal\, donnera une prestation d’une durée de 15 minutes au début du concert.
URL:https://www.ludwig-van.com/montreal/event/arte-musica-salle-bourgie-bruce-liu-en-recital-complet/
LOCATION:Salle Bourgie\, 1339 rue Sherbrooke Ouest\, Montréal\, Québec\, H3G 1G2\, Canada
CATEGORIES:piano
ATTACH;FMTTYPE=image/png:https://www.ludwig-van.com/montreal/wp-content/uploads/sites/3/2023/11/Bruce-Liu.png
GEO:45.4991991;-73.57963
X-APPLE-STRUCTURED-LOCATION;VALUE=URI;X-ADDRESS=Salle Bourgie 1339 rue Sherbrooke Ouest Montréal Québec H3G 1G2 Canada;X-APPLE-RADIUS=500;X-TITLE=1339 rue Sherbrooke Ouest:geo:-73.57963,45.4991991
END:VEVENT
END:VCALENDAR