BEGIN:VCALENDAR
VERSION:2.0
PRODID:-//Ludwig Van Montreal - ECPv5.9.1//NONSGML v1.0//EN
CALSCALE:GREGORIAN
METHOD:PUBLISH
X-WR-CALNAME:Ludwig Van Montreal
X-ORIGINAL-URL:https://www.ludwig-van.com/montreal
X-WR-CALDESC:évènements pour Ludwig Van Montreal
BEGIN:VTIMEZONE
TZID:America/Toronto
BEGIN:DAYLIGHT
TZOFFSETFROM:-0500
TZOFFSETTO:-0400
TZNAME:EDT
DTSTART:20240310T070000
END:DAYLIGHT
BEGIN:STANDARD
TZOFFSETFROM:-0400
TZOFFSETTO:-0500
TZNAME:EST
DTSTART:20241103T060000
END:STANDARD
END:VTIMEZONE
BEGIN:VEVENT
DTSTART;TZID=America/Toronto:20240512T193000
DTEND;TZID=America/Toronto:20240512T213000
DTSTAMP:20260420T044915
CREATED:20231114T213722Z
LAST-MODIFIED:20231114T213722Z
UID:78939-1715542200-1715549400@www.ludwig-van.com
SUMMARY:Ensemble Scholastica | Le chant des lignées
DESCRIPTION:Du Mali au Québec en passant par l’Europe \nDans ce programme l’Ensemble Scholastica mettra l’accent sur la musique médiévale de l’Afrique de l’Ouest. Les grandes traditions musicales de pays tels que le Mali\, la Guinée et le Sénégal trouvent leurs racines dans cette époque. Les griots (chanteurs de langues mandingues)\, ont joué un rôle important en tant que conteurs et transmetteurs de connaissances et d’idées\, un héritage encore présent aujourd’hui. L’œuvre principale de leur répertoire ancien se compose du récit de la vie et de la lignée de Soundiata Keita\, fondateur de l’Empire du Mali (XIIIe -XIVe siècles). Cette épopée raconte une histoire fascinante – et parfois magique – qui continue à rassembler et à enchanter le public de nos jours. \nLa narration\, le fantasme et la notion de la descendance étaient également associées dans la musique européenne du Moyen Âge\, parfois d’une manière surprenante. Avec ce programme\, nous trouverons le point commun entre ces traditions et nous permettrons à notre public amateur de musique médiévale de découvrir le son merveilleux et la richesse de l’histoire du chant classique mandingue. Pour cela\, nous avons invité une grande artiste à partager la scène avec nous. Djely Tapa est née au Mali au sein d’une illustre famille de griots et vit à Montréal depuis vingt ans. Révélation Radio-Canada en musique du monde en 2019-2020\, elle a également reçu le prix Juno pour le meilleur album en musique\ndu monde en 2020. Pour notre concert\, Djely Tapa sera accompagnée à la kora par Diely Mori Tounkara\, avec lequel elle travaille régulièrement.
URL:https://www.ludwig-van.com/montreal/event/ensemble-scholastica-le-chant-des-lignees/
LOCATION:Chapelle Notre-Dame-de-Bon-Secours\, 400\, Rue Saint-paul Est\, Montréal\, Québec\, H2Y 1H4\, Canada
CATEGORIES:Period ensemble
ATTACH;FMTTYPE=image/png:https://www.ludwig-van.com/montreal/wp-content/uploads/sites/3/2023/11/Chant-des-lignees.png
ORGANIZER;CN="Ensemble%20Scholastica":MAILTO:info@ensemblescholastica.ca
GEO:45.5097546;-73.5508393
X-APPLE-STRUCTURED-LOCATION;VALUE=URI;X-ADDRESS=Chapelle Notre-Dame-de-Bon-Secours 400 Rue Saint-paul Est Montréal Québec H2Y 1H4 Canada;X-APPLE-RADIUS=500;X-TITLE=400\, Rue Saint-paul Est:geo:-73.5508393,45.5097546
END:VEVENT
END:VCALENDAR