BEGIN:VCALENDAR
VERSION:2.0
PRODID:-//Ludwig Van Montreal - ECPv5.9.1//NONSGML v1.0//EN
CALSCALE:GREGORIAN
METHOD:PUBLISH
X-WR-CALNAME:Ludwig Van Montreal
X-ORIGINAL-URL:https://www.ludwig-van.com/montreal
X-WR-CALDESC:évènements pour Ludwig Van Montreal
BEGIN:VTIMEZONE
TZID:America/Toronto
BEGIN:DAYLIGHT
TZOFFSETFROM:-0500
TZOFFSETTO:-0400
TZNAME:EDT
DTSTART:20240310T070000
END:DAYLIGHT
BEGIN:STANDARD
TZOFFSETFROM:-0400
TZOFFSETTO:-0500
TZNAME:EST
DTSTART:20241103T060000
END:STANDARD
END:VTIMEZONE
BEGIN:VEVENT
DTSTART;TZID=America/Toronto:20240511T143000
DTEND;TZID=America/Toronto:20240511T163000
DTSTAMP:20260420T062258
CREATED:20230826T161048Z
LAST-MODIFIED:20230826T161048Z
UID:77574-1715437800-1715445000@www.ludwig-van.com
SUMMARY:Orchestre symphonique de Montréal | Katia et Marielle Labèque jouent Glass
DESCRIPTION:Sous la direction de Fabien Gabel\, l’OSM recevra les pianistes Katia et Marielle Labèque. Pour elles\, Glass a écrit son Double Concerto pour deux pianos\, une œuvre au cours de laquelle les solistes et l’orchestre tissent un tapis sonore en constante mouvance. La sensualité mélodique de la Danse des sept voiles de R. Strauss et de La tragédie de Salomé de Schmitt apportera une touche d’exotisme à ce programme. \n 
URL:https://www.ludwig-van.com/montreal/event/orchestre-symphonique-de-montreal-katia-et-marielle-labeque-jouent-glass/2024-05-11/
LOCATION:Maison Symphonique\, 1600 rue St-Urbain\, Montréal\, Québec\, H2S0X1\, Canada
CATEGORIES:Orchestra
ATTACH;FMTTYPE=image/jpeg:https://www.ludwig-van.com/montreal/wp-content/uploads/sites/3/2023/08/Katia_et_Marielle-Labeque.jpg
GEO:45.5310103;-73.613956
X-APPLE-STRUCTURED-LOCATION;VALUE=URI;X-ADDRESS=Maison Symphonique 1600 rue St-Urbain Montréal Québec H2S0X1 Canada;X-APPLE-RADIUS=500;X-TITLE=1600 rue St-Urbain:geo:-73.613956,45.5310103
END:VEVENT
END:VCALENDAR