BEGIN:VCALENDAR
VERSION:2.0
PRODID:-//Ludwig Van Montreal - ECPv5.9.1//NONSGML v1.0//EN
CALSCALE:GREGORIAN
METHOD:PUBLISH
X-WR-CALNAME:Ludwig Van Montreal
X-ORIGINAL-URL:https://www.ludwig-van.com/montreal
X-WR-CALDESC:évènements pour Ludwig Van Montreal
BEGIN:VTIMEZONE
TZID:America/Toronto
BEGIN:DAYLIGHT
TZOFFSETFROM:-0500
TZOFFSETTO:-0400
TZNAME:EDT
DTSTART:20240310T070000
END:DAYLIGHT
BEGIN:STANDARD
TZOFFSETFROM:-0400
TZOFFSETTO:-0500
TZNAME:EST
DTSTART:20241103T060000
END:STANDARD
END:VTIMEZONE
BEGIN:VEVENT
DTSTART;TZID=America/Toronto:20240504T140000
DTEND;TZID=America/Toronto:20240504T160000
DTSTAMP:20260420T180618
CREATED:20231203T170706Z
LAST-MODIFIED:20231203T170706Z
UID:79180-1714831200-1714838400@www.ludwig-van.com
SUMMARY:Orchestre symphonique de Laval | Carte blanche à Marie-Josée Arpin
DESCRIPTION:Marie-Josée est violon-solo associé à l’Orchestre symphonique de Laval depuis 1999. Diplômée du Conservatoire de musique de Montréal dans la classe de Raymond Dessaints\, elle poursuit des études à la Longy School of Music de Cambridge au Massachusetts. De retour au pays\, elle devient rapidement une pigiste très en demande dans différents orchestres de la région montréalaise et obtient en 2015 le poste de violon-solo à l’Orchestre de Trois-Rivières. Marie-Josée a été second violon du Quatuor Claudel-Canimex de 1989 à 2009 et continue activement à faire de la musique de chambre avec ses collègues de l’Orchestre. Pour clôturer la série des Chambristes de la saison\, Marie-Josée nous propose un large répertoire d’œuvres de compositeurs allant de Handel à John Lennon en passant par Mozart et Scott Joplin.
URL:https://www.ludwig-van.com/montreal/event/orchestre-symphonique-de-laval-carte-blanche-marie-josee-arpin/
LOCATION:Église Saint-Pie-X\, 1065\, boul. Pie-X\, Laval\, Québec\, H7V 3B2\, Canada
CATEGORIES:Chamber music
ATTACH;FMTTYPE=image/png:https://www.ludwig-van.com/montreal/wp-content/uploads/sites/3/2023/12/Marie-Josee-Arpin.png
END:VEVENT
BEGIN:VEVENT
DTSTART;TZID=America/Toronto:20240504T143000
DTEND;TZID=America/Toronto:20240504T163000
DTSTAMP:20260420T180618
CREATED:20230826T160037Z
LAST-MODIFIED:20230826T160037Z
UID:77568-1714833000-1714840200@www.ludwig-van.com
SUMMARY:Orchestre symphonique de Montréal | Emily D'Angelo et le TSO à la Maison Symphonique
DESCRIPTION:L’OSM a le plaisir d’accueillir le TSO et son chef Gustavo Gimeno dans un programme mettant à l’honneur la voix exceptionnelle de la mezzo-soprano Emily D’Angelo. Cette dernière interprètera enargeia\, une suite de mélodies anciennes et contemporaines arrangées par Jarkko Riihimäki\, puis elle créera la nouvelle pièce d’Alison Yun-Fei Jiang. La Symphonie no 1 de Brahms\, une œuvre d’une grande intensité dramatique\, mue par un puissant élan créateur\, complètera ce programme.
URL:https://www.ludwig-van.com/montreal/event/orchestre-symphonique-de-montreal-emily-dangelo-et-le-tso-la-maison-symphonique/
LOCATION:Maison Symphonique\, 1600 rue St-Urbain\, Montréal\, Québec\, H2S0X1\, Canada
CATEGORIES:Orchestra
ATTACH;FMTTYPE=image/jpeg:https://www.ludwig-van.com/montreal/wp-content/uploads/sites/3/2023/08/Emily-DAngelo.jpg
GEO:45.5310103;-73.613956
X-APPLE-STRUCTURED-LOCATION;VALUE=URI;X-ADDRESS=Maison Symphonique 1600 rue St-Urbain Montréal Québec H2S0X1 Canada;X-APPLE-RADIUS=500;X-TITLE=1600 rue St-Urbain:geo:-73.613956,45.5310103
END:VEVENT
END:VCALENDAR