BEGIN:VCALENDAR
VERSION:2.0
PRODID:-//Ludwig Van Montreal - ECPv5.9.1//NONSGML v1.0//EN
CALSCALE:GREGORIAN
METHOD:PUBLISH
X-WR-CALNAME:Ludwig Van Montreal
X-ORIGINAL-URL:https://www.ludwig-van.com/montreal
X-WR-CALDESC:évènements pour Ludwig Van Montreal
BEGIN:VTIMEZONE
TZID:America/Toronto
BEGIN:DAYLIGHT
TZOFFSETFROM:-0500
TZOFFSETTO:-0400
TZNAME:EDT
DTSTART:20240310T070000
END:DAYLIGHT
BEGIN:STANDARD
TZOFFSETFROM:-0400
TZOFFSETTO:-0500
TZNAME:EST
DTSTART:20241103T060000
END:STANDARD
END:VTIMEZONE
BEGIN:VEVENT
DTSTART;TZID=America/Toronto:20240502T193000
DTEND;TZID=America/Toronto:20240502T213000
DTSTAMP:20260420T212722
CREATED:20230826T154839Z
LAST-MODIFIED:20230826T154839Z
UID:77565-1714678200-1714685400@www.ludwig-van.com
SUMMARY:Orchestre symphonique de Montréal | Zimmermann et le magistral Concerto pour violon de Brahms
DESCRIPTION:Frank Peter Zimmermann\, l’un des plus grands violonistes actuels\, interprétera le Concerto pour violon de Brahms. Dans cette œuvre quasi symphonique\, l’orchestre et le soliste dialoguent d’égal à égal. Toutefois\, c’est l’énergie festive du violon qui entrainera l’orchestre dans un finale enjoué aux accents tziganes. Contemporaine de Brahms\, Emilie Mayer est une compositrice à découvrir : sa fascinante personnalité musicale s’affirme dans sa Symphonie no 7\, une partition très originale parcourue d’élans passionnés.
URL:https://www.ludwig-van.com/montreal/event/orchestre-symphonique-de-montreal-zimmermann-et-le-magistral-concerto-pour-violon-de-brahms/2024-05-02/
LOCATION:Maison Symphonique\, 1600 rue St-Urbain\, Montréal\, Québec\, H2S0X1\, Canada
CATEGORIES:Orchestra
ATTACH;FMTTYPE=image/jpeg:https://www.ludwig-van.com/montreal/wp-content/uploads/sites/3/2023/08/Frank-Peter-Zimmermann.jpg
GEO:45.5310103;-73.613956
X-APPLE-STRUCTURED-LOCATION;VALUE=URI;X-ADDRESS=Maison Symphonique 1600 rue St-Urbain Montréal Québec H2S0X1 Canada;X-APPLE-RADIUS=500;X-TITLE=1600 rue St-Urbain:geo:-73.613956,45.5310103
END:VEVENT
BEGIN:VEVENT
DTSTART;TZID=America/Toronto:20240502T193000
DTEND;TZID=America/Toronto:20240502T210000
DTSTAMP:20260420T212722
CREATED:20240123T012745Z
LAST-MODIFIED:20240123T012745Z
UID:79597-1714678200-1714683600@www.ludwig-van.com
SUMMARY:TRIO FIBONACCI | Les liaisons heureuses
DESCRIPTION:La saison se conclura avec un programme mettant en lumière les liaisons entre trois grands représentants du classicisme. Liens d’amitié\, rapports pédagogiques et admiration réciproque unissaient en effet Reicha\, Haydn et Beethoven. Les musiciens et musiciennes présenteront le rare mais magnifique Trio op. 101 n° 2 de Reicha\, compositeur trop souvent resté dans l’ombre de son ami Beethoven\, mais dont l’avant-gardisme allait influencer des générations de grands compositeurs. Suivra une partition de celui qu’on surnommait « Papa Haydn ». Son trio au programme — un genre auquel il a donné ses lettres de noblesse — nous démontre que ceux-ci peuvent atteindre les mêmes hauteurs que ses fameux quatuors. Enfin\, le monumental Trio « À l’Archiduc » de Beethoven est loué pour son inspiration sublime et sa fantaisie inventive. Cette œuvre\, un des piliers de la musique de chambre\, donne toute la mesure de l’incommensurable talent de cet autre représentant du classicisme viennois. \n  \nINTERPRÈTES \nTrio Fibonacci\nJulie-Anne Derome\, violon\nGabriel Prynn\, violoncelle\nMaxim Shatalkin\, piano \n  \nPROGRAMME \nAnton REICHA Trio en ré mineur\, op. 101 nº 2\nBEETHOVEN Trio nº 7 « À l’archiduc »\, op. 97\nHAYDN Trio pour piano nº 39 \n  \nEntrée : Grand public 40 $; 34 ans ou moins 20 $
URL:https://www.ludwig-van.com/montreal/event/trio-fibonacci-les-liaisons-heureuses/
LOCATION:Salle Bourgie\, 1339 rue Sherbrooke Ouest\, Montréal\, Québec\, H3G 1G2\, Canada
CATEGORIES:Chamber music
ATTACH;FMTTYPE=image/jpeg:https://www.ludwig-van.com/montreal/wp-content/uploads/sites/3/2024/01/Trio-Fibonacci_Hannah-Spray.jpg
ORGANIZER;CN="Trio%20Fibonacci":MAILTO:info@triofibonacci.com
GEO:45.4991991;-73.57963
X-APPLE-STRUCTURED-LOCATION;VALUE=URI;X-ADDRESS=Salle Bourgie 1339 rue Sherbrooke Ouest Montréal Québec H3G 1G2 Canada;X-APPLE-RADIUS=500;X-TITLE=1339 rue Sherbrooke Ouest:geo:-73.57963,45.4991991
END:VEVENT
END:VCALENDAR