BEGIN:VCALENDAR
VERSION:2.0
PRODID:-//Ludwig Van Montreal - ECPv5.9.1//NONSGML v1.0//EN
CALSCALE:GREGORIAN
METHOD:PUBLISH
X-WR-CALNAME:Ludwig Van Montreal
X-ORIGINAL-URL:https://www.ludwig-van.com/montreal
X-WR-CALDESC:évènements pour Ludwig Van Montreal
BEGIN:VTIMEZONE
TZID:America/Toronto
BEGIN:DAYLIGHT
TZOFFSETFROM:-0500
TZOFFSETTO:-0400
TZNAME:EDT
DTSTART:20240310T070000
END:DAYLIGHT
BEGIN:STANDARD
TZOFFSETFROM:-0400
TZOFFSETTO:-0500
TZNAME:EST
DTSTART:20241103T060000
END:STANDARD
END:VTIMEZONE
BEGIN:VEVENT
DTSTART;TZID=America/Toronto:20240427T140000
DTEND;TZID=America/Toronto:20240427T160000
DTSTAMP:20260421T054105
CREATED:20230928T223056Z
LAST-MODIFIED:20230928T223056Z
UID:78198-1714226400-1714233600@www.ludwig-van.com
SUMMARY:Instruments of Happiness | Information
DESCRIPTION:Ce nouvel opéra imaginé par Tim Brady et Chants Libres replonge le public dans l’univers onirique initié dans Backstage at Carnegie Hall présenté déjà en septembre 2022. \nMontréal\, Octobre 1970 : Crise d’Octobre\, procès anti-avortement du Dr Henry Margentaler ou encore mort de Jimi Hendrix. Un nouvel opéra bilingue qui questionne le déroulement de l’Histoire et la condition humaine au travers de nouvelles aventures de la voyageuse temporelle. \nInformation est le 2e opéra dans le cycle “Espoir” (et la matière noire de l’histoire) qui a débuté en septembre 2022 avec Backstage at Carnegie Hall.
URL:https://www.ludwig-van.com/montreal/event/instruments-happiness-information/2024-04-27/
LOCATION:Edifice Wilder\, 1435 Rue de Bleury\, Montréal\, Québec\, H3A 2H7\, Canada
CATEGORIES:opera
ATTACH;FMTTYPE=image/png:https://www.ludwig-van.com/montreal/wp-content/uploads/sites/3/2023/09/Information_Opera.png
ORGANIZER;CN="Instruments%20of%20Happiness":MAILTO:tim@timbrady.ca
END:VEVENT
BEGIN:VEVENT
DTSTART;TZID=America/Toronto:20240427T193000
DTEND;TZID=America/Toronto:20240427T213000
DTSTAMP:20260421T054105
CREATED:20230712T220832Z
LAST-MODIFIED:20230712T221056Z
UID:77006-1714246200-1714253400@www.ludwig-van.com
SUMMARY:Ensemble Caprice | Le Requiem de Mozart
DESCRIPTION:Revivez la splendeur et la désolation du Requiem de Mozart\, ravivé par le brillant Ensemble Caprice et l’Ensemble ArtChoral. Souvent considéré comme ayant été composé pour ses propres funérailles\, l’ultime chef-d’œuvre de Mozart est un témoignage d’une beauté envoûtante du génie de son compositeur. Également au programme\, la Symphonie n° 41 (la « Symphonie Jupiter ») et l’Ave Verum Corpus de Mozart.
URL:https://www.ludwig-van.com/montreal/event/ensemble-caprice-le-requiem-de-mozart/
LOCATION:Maison Symphonique\, 1600 rue St-Urbain\, Montréal\, Québec\, H2S0X1\, Canada
CATEGORIES:Period ensemble
ORGANIZER;CN="Ensemble%20Caprice":MAILTO:info@ensemblecaprice.com
GEO:45.5310103;-73.613956
X-APPLE-STRUCTURED-LOCATION;VALUE=URI;X-ADDRESS=Maison Symphonique 1600 rue St-Urbain Montréal Québec H2S0X1 Canada;X-APPLE-RADIUS=500;X-TITLE=1600 rue St-Urbain:geo:-73.613956,45.5310103
END:VEVENT
BEGIN:VEVENT
DTSTART;TZID=America/Toronto:20240427T193000
DTEND;TZID=America/Toronto:20240427T213000
DTSTAMP:20260421T054105
CREATED:20230928T223056Z
LAST-MODIFIED:20230928T223056Z
UID:78200-1714246200-1714253400@www.ludwig-van.com
SUMMARY:Instruments of Happiness | Information
DESCRIPTION:Ce nouvel opéra imaginé par Tim Brady et Chants Libres replonge le public dans l’univers onirique initié dans Backstage at Carnegie Hall présenté déjà en septembre 2022. \nMontréal\, Octobre 1970 : Crise d’Octobre\, procès anti-avortement du Dr Henry Margentaler ou encore mort de Jimi Hendrix. Un nouvel opéra bilingue qui questionne le déroulement de l’Histoire et la condition humaine au travers de nouvelles aventures de la voyageuse temporelle. \nInformation est le 2e opéra dans le cycle “Espoir” (et la matière noire de l’histoire) qui a débuté en septembre 2022 avec Backstage at Carnegie Hall.
URL:https://www.ludwig-van.com/montreal/event/instruments-happiness-information/2024-04-27/2/
LOCATION:Edifice Wilder\, 1435 Rue de Bleury\, Montréal\, Québec\, H3A 2H7\, Canada
CATEGORIES:opera
ATTACH;FMTTYPE=image/png:https://www.ludwig-van.com/montreal/wp-content/uploads/sites/3/2023/09/Information_Opera.png
ORGANIZER;CN="Instruments%20of%20Happiness":MAILTO:tim@timbrady.ca
END:VEVENT
BEGIN:VEVENT
DTSTART;TZID=America/Toronto:20240427T193000
DTEND;TZID=America/Toronto:20240427T213000
DTSTAMP:20260421T054105
CREATED:20231110T222421Z
LAST-MODIFIED:20231110T222421Z
UID:78877-1714246200-1714253400@www.ludwig-van.com
SUMMARY:Arte Musica - Salle Bourgie | André Laplante\, piano
DESCRIPTION:Grand pianiste québécois acclamé pour sa prodigieuse technique et sa musicalité sensible\, André Laplante est très demandé comme soliste et comme chambriste sur les scènes les plus prestigieuses. Spécialiste du répertoire romantique\, il proposera aux mélomanes de la Salle Bourgie un récital composé d’œuvres de Liszt\, Ravel et Schubert.
URL:https://www.ludwig-van.com/montreal/event/arte-musica-salle-bourgie-andre-laplante-piano/
LOCATION:Salle Bourgie\, 1339 rue Sherbrooke Ouest\, Montréal\, Québec\, H3G 1G2\, Canada
CATEGORIES:piano
ATTACH;FMTTYPE=image/jpeg:https://www.ludwig-van.com/montreal/wp-content/uploads/sites/3/2023/11/Andre-Laplante.jpg
GEO:45.4991991;-73.57963
X-APPLE-STRUCTURED-LOCATION;VALUE=URI;X-ADDRESS=Salle Bourgie 1339 rue Sherbrooke Ouest Montréal Québec H3G 1G2 Canada;X-APPLE-RADIUS=500;X-TITLE=1339 rue Sherbrooke Ouest:geo:-73.57963,45.4991991
END:VEVENT
END:VCALENDAR