BEGIN:VCALENDAR
VERSION:2.0
PRODID:-//Ludwig Van Montreal - ECPv5.9.1//NONSGML v1.0//EN
CALSCALE:GREGORIAN
METHOD:PUBLISH
X-WR-CALNAME:Ludwig Van Montreal
X-ORIGINAL-URL:https://www.ludwig-van.com/montreal
X-WR-CALDESC:évènements pour Ludwig Van Montreal
BEGIN:VTIMEZONE
TZID:America/Toronto
BEGIN:DAYLIGHT
TZOFFSETFROM:-0500
TZOFFSETTO:-0400
TZNAME:EDT
DTSTART:20240310T070000
END:DAYLIGHT
BEGIN:STANDARD
TZOFFSETFROM:-0400
TZOFFSETTO:-0500
TZNAME:EST
DTSTART:20241103T060000
END:STANDARD
END:VTIMEZONE
BEGIN:VEVENT
DTSTART;TZID=America/Toronto:20240426T193000
DTEND;TZID=America/Toronto:20240426T213000
DTSTAMP:20260421T071532
CREATED:20230911T211121Z
LAST-MODIFIED:20230911T211121Z
UID:77795-1714159800-1714167000@www.ludwig-van.com
SUMMARY:Arte Musica - salle Bourgie | La guitare de Miloš\, fantaisie baroque
DESCRIPTION:Un programme entièrement baroque pour la première collaboration de Miloš\, l’extraordinaire guitariste originaire du Montenegro\, avec Les Violons du Roy et Jonathan Cohen ! Le guitariste virtuose a déjà conquis les scènes d’Europe et d’Asie et nous invite ici à l’émerveillement avec quelques perles du répertoire baroque.
URL:https://www.ludwig-van.com/montreal/event/arte-musica-salle-bourgie-la-guitare-de-milos-fantaisie-baroque/
LOCATION:Salle Bourgie\, 1339 rue Sherbrooke Ouest\, Montréal\, Québec\, H3G 1G2\, Canada
CATEGORIES:Chamber music
ATTACH;FMTTYPE=image/png:https://www.ludwig-van.com/montreal/wp-content/uploads/sites/3/2023/09/Milos.png
GEO:45.4991991;-73.57963
X-APPLE-STRUCTURED-LOCATION;VALUE=URI;X-ADDRESS=Salle Bourgie 1339 rue Sherbrooke Ouest Montréal Québec H3G 1G2 Canada;X-APPLE-RADIUS=500;X-TITLE=1339 rue Sherbrooke Ouest:geo:-73.57963,45.4991991
END:VEVENT
END:VCALENDAR