BEGIN:VCALENDAR
VERSION:2.0
PRODID:-//Ludwig Van Montreal - ECPv5.9.1//NONSGML v1.0//EN
CALSCALE:GREGORIAN
METHOD:PUBLISH
X-WR-CALNAME:Ludwig Van Montreal
X-ORIGINAL-URL:https://www.ludwig-van.com/montreal
X-WR-CALDESC:évènements pour Ludwig Van Montreal
BEGIN:VTIMEZONE
TZID:America/Toronto
BEGIN:DAYLIGHT
TZOFFSETFROM:-0500
TZOFFSETTO:-0400
TZNAME:EDT
DTSTART:20240310T070000
END:DAYLIGHT
BEGIN:STANDARD
TZOFFSETFROM:-0400
TZOFFSETTO:-0500
TZNAME:EST
DTSTART:20241103T060000
END:STANDARD
END:VTIMEZONE
BEGIN:VEVENT
DTSTART;TZID=America/Toronto:20240423T193000
DTEND;TZID=America/Toronto:20240423T213000
DTSTAMP:20260421T124403
CREATED:20231110T220220Z
LAST-MODIFIED:20231110T220220Z
UID:78870-1713900600-1713907800@www.ludwig-van.com
SUMMARY:Arte Musica - Salle Bourgie | Daniel Hope\, violon - The Soul of Ireland
DESCRIPTION:Des airs nostalgiques qui font rêver\, des rigodons enjoués qui font taper du pied\, ce concert rend compte du riche patrimoine musical de l’Irlande et de ses mythes et légendes. Mettant l’accent sur la musique traditionnelle irlandaise de la Renaissance jusqu’à nos jours\, Daniel Hope et son ensemble feront revivre la beauté et la magie de cette île. \nJueun Lee\, étudiante en violon à l’École de musique Schulich de l’Université McGill\, donnera une prestation d’une durée de 15 minutes au début du concert.
URL:https://www.ludwig-van.com/montreal/event/arte-musica-salle-bourgie-daniel-hope-violon-soul-ireland/
LOCATION:Salle Bourgie\, 1339 rue Sherbrooke Ouest\, Montréal\, Québec\, H3G 1G2\, Canada
CATEGORIES:World Music
ATTACH;FMTTYPE=image/jpeg:https://www.ludwig-van.com/montreal/wp-content/uploads/sites/3/2023/11/Daniel-Hope_Ensemble.jpg
GEO:45.4991991;-73.57963
X-APPLE-STRUCTURED-LOCATION;VALUE=URI;X-ADDRESS=Salle Bourgie 1339 rue Sherbrooke Ouest Montréal Québec H3G 1G2 Canada;X-APPLE-RADIUS=500;X-TITLE=1339 rue Sherbrooke Ouest:geo:-73.57963,45.4991991
END:VEVENT
END:VCALENDAR