BEGIN:VCALENDAR
VERSION:2.0
PRODID:-//Ludwig Van Montreal - ECPv5.9.1//NONSGML v1.0//EN
CALSCALE:GREGORIAN
METHOD:PUBLISH
X-WR-CALNAME:Ludwig Van Montreal
X-ORIGINAL-URL:https://www.ludwig-van.com/montreal
X-WR-CALDESC:évènements pour Ludwig Van Montreal
BEGIN:VTIMEZONE
TZID:America/Toronto
BEGIN:DAYLIGHT
TZOFFSETFROM:-0500
TZOFFSETTO:-0400
TZNAME:EDT
DTSTART:20240310T070000
END:DAYLIGHT
BEGIN:STANDARD
TZOFFSETFROM:-0400
TZOFFSETTO:-0500
TZNAME:EST
DTSTART:20241103T060000
END:STANDARD
END:VTIMEZONE
BEGIN:VEVENT
DTSTART;TZID=America/Toronto:20240420T193000
DTEND;TZID=America/Toronto:20240420T210000
DTSTAMP:20260421T180012
CREATED:20231218T154202Z
LAST-MODIFIED:20231218T154202Z
UID:79355-1713641400-1713646800@www.ludwig-van.com
SUMMARY:Chœur Saint-Laurent | Légendes
DESCRIPTION:Le Chœur St-Laurent et son directeur artistique\, Philippe Bourque\, proposent un concert intitulé Légendes qui rassemblera quatre solistes d’ici\, de renommée nationale et internationale\, un orchestre de plus d’une cinquantaine de musiciens professionnels et un chœur de plus de cent dix voix. Ce parcours inédit dans le monde singulier des contes\, du fantastique et des mythes\, sublimé en musique symphonique\, inclura des œuvres peu connues de Sibelius\, Rimski-Korsakov et Mendelssohn. Point culminant de la 52e saison du Chœur St-Laurent\, ce concert sera présenté à la Maison symphonique de Montréal le samedi 20 avril 2024. \nBillets: de 65\,74$ à 114\,73$
URL:https://www.ludwig-van.com/montreal/event/choeur-saint-laurent-legendes/
LOCATION:Maison Symphonique\, 1600 rue St-Urbain\, Montréal\, Québec\, H2S0X1\, Canada
CATEGORIES:choeur
ATTACH;FMTTYPE=image/jpeg:https://www.ludwig-van.com/montreal/wp-content/uploads/sites/3/2022/02/Legendes.jpg
ORGANIZER;CN="Choeur%20St-Laurent":MAILTO:info@choeur.qc.ca
GEO:45.5310103;-73.613956
X-APPLE-STRUCTURED-LOCATION;VALUE=URI;X-ADDRESS=Maison Symphonique 1600 rue St-Urbain Montréal Québec H2S0X1 Canada;X-APPLE-RADIUS=500;X-TITLE=1600 rue St-Urbain:geo:-73.613956,45.5310103
END:VEVENT
END:VCALENDAR