BEGIN:VCALENDAR
VERSION:2.0
PRODID:-//Ludwig Van Montreal - ECPv5.9.1//NONSGML v1.0//EN
CALSCALE:GREGORIAN
METHOD:PUBLISH
X-WR-CALNAME:Ludwig Van Montreal
X-ORIGINAL-URL:https://www.ludwig-van.com/montreal
X-WR-CALDESC:évènements pour Ludwig Van Montreal
BEGIN:VTIMEZONE
TZID:America/Toronto
BEGIN:DAYLIGHT
TZOFFSETFROM:-0500
TZOFFSETTO:-0400
TZNAME:EDT
DTSTART:20240310T070000
END:DAYLIGHT
BEGIN:STANDARD
TZOFFSETFROM:-0400
TZOFFSETTO:-0500
TZNAME:EST
DTSTART:20241103T060000
END:STANDARD
END:VTIMEZONE
BEGIN:VEVENT
DTSTART;TZID=America/Toronto:20240413T140000
DTEND;TZID=America/Toronto:20240413T160000
DTSTAMP:20260422T073946
CREATED:20231203T165843Z
LAST-MODIFIED:20231203T165843Z
UID:79177-1713016800-1713024000@www.ludwig-van.com
SUMMARY:Orchestre symphonique de Laval | Carte blanche à Madeleine Doyon-Robitaille
DESCRIPTION:Madeleine occupe le poste de premier trombone à l’Orchestre symphonique de Laval depuis 2016. Diplômée du Conservatoire de musique de Montréal\, elle poursuit ses études à la Rice University à Houston au Texas. De retour à Montréal\, elle travaille comme pigiste dans les principaux orchestres de la grande région métropolitaine ainsi qu’avec l’Orchestre symphonique de Québec et les Violons du Roy ; elle est aussi membre du groupe de musique klezmer Oktopus. Parallèlement à ses activités d’instrumentiste\, Madeleine enseigne le trombone au Collège Notre-Dame de Montréal. Pour ce troisième concert de la série des Chambristes\, elle nous propose un programme varié comprenant en autres des œuvres de Bach\, Beethoven et Debussy écrites originalement ou arrangées pour quatuor de trombones.
URL:https://www.ludwig-van.com/montreal/event/orchestre-symphonique-de-laval-carte-blanche-madeleine-doyon-robitaille/
LOCATION:Église Sainte-Dorothée\, 655 Rue Principale\, Laval\, Québec\, H7X 1E2\, Canada
CATEGORIES:Chamber music
ATTACH;FMTTYPE=image/png:https://www.ludwig-van.com/montreal/wp-content/uploads/sites/3/2023/12/Madeleine-Doyon-Robitaille.png
END:VEVENT
BEGIN:VEVENT
DTSTART;TZID=America/Toronto:20240413T193000
DTEND;TZID=America/Toronto:20240413T213000
DTSTAMP:20260422T073946
CREATED:20230912T150100Z
LAST-MODIFIED:20230912T150100Z
UID:77837-1713036600-1713043800@www.ludwig-van.com
SUMMARY:Les Violons du Roy | Le Gloria de Vivaldi
DESCRIPTION:La Chapelle de Québec dans toute sa splendeur! Bernard Labadie dirige un florilège d’œuvres baroques composées par les plus grands maîtres de l’époque\, incluant le célèbre et réjouissant Gloria de Vivaldi. Un programme qui ravira les amoureux de musique chorale grâce aux choristes exceptionnels de La Chapelle de Québec. \n 
URL:https://www.ludwig-van.com/montreal/event/les-violons-du-roy-le-gloria-de-vivaldi-2/
LOCATION:Maison Symphonique\, 1600 rue St-Urbain\, Montréal\, Québec\, H2S0X1\, Canada
CATEGORIES:Chamber music
ATTACH;FMTTYPE=image/jpeg:https://www.ludwig-van.com/montreal/wp-content/uploads/sites/3/2022/11/Bernard-Labadie.jpg
ORGANIZER;CN="Les%20Violons%20du%20Roy":MAILTO:info@violonsduroy.com
GEO:45.5310103;-73.613956
X-APPLE-STRUCTURED-LOCATION;VALUE=URI;X-ADDRESS=Maison Symphonique 1600 rue St-Urbain Montréal Québec H2S0X1 Canada;X-APPLE-RADIUS=500;X-TITLE=1600 rue St-Urbain:geo:-73.613956,45.5310103
END:VEVENT
BEGIN:VEVENT
DTSTART;TZID=America/Toronto:20240413T193000
DTEND;TZID=America/Toronto:20240413T213000
DTSTAMP:20260422T073946
CREATED:20230919T152126Z
LAST-MODIFIED:20230919T152126Z
UID:77963-1713036600-1713043800@www.ludwig-van.com
SUMMARY:Faculté de musique de l'Université de Montréal | La « Résurrection » de Mahler par l'OUM et Jean-François Rivest
DESCRIPTION:Pour Mahler\, écrire une symphonie c’était bâtir un monde\, et sa Symphonie « Résurrection » n’échappe pas à la règle. Conçue en cinq mouvements\, cette œuvre monumentale fait appel à un effectif orchestral imposant\, un chœur\, des voix solistes et un orgue. Il n’en fallait pas moins à Mahler pour exprimer sa vision du monde; d’où le caractère épique de l’œuvre. À la marche funèbre initiale répond le grandiose mouvement final construit autour du choral Résurrection. Entre ces deux extrêmes\, un Andante qualifié de « rêve mélancolique » par le compositeur\, un Scherzo aux accents ironiques\, duquel surgissent des réminiscences de fanfares\, de rires ou de cris\, et un quatrième mouvement plus méditatif\, sorte de répit avant la gigantesque explosion finale. C’est à cet incomparable voyage émotionnel que vous convient l’OUM et son chef Jean-François Rivest. \nCe concert marquera le départ à la retraite de Jean-François Rivest\, professeur titulaire et directeur artistique de l’OUM depuis 30 ans.
URL:https://www.ludwig-van.com/montreal/event/faculte-de-musique-de-luniversite-de-montreal-la-resurrection-de-mahler-par-loum-et-jean-francois-rivest/
LOCATION:Église Saint-Jean-Baptiste\, 4237\, avenue Henri-Julien\, Montréal\, Québec\, H2W 2K7\, Canada
CATEGORIES:Orchestra
ATTACH;FMTTYPE=image/jpeg:https://www.ludwig-van.com/montreal/wp-content/uploads/sites/3/2023/09/Jean-Francois-Rivest.jpg
ORGANIZER;CN="Facult%C3%A9%20de%20musique%20de%20l%E2%80%99Universit%C3%A9%20de%20Montr%C3%A9al":MAILTO:musique@umontreal.ca
GEO:45.5211996;-73.5799119
X-APPLE-STRUCTURED-LOCATION;VALUE=URI;X-ADDRESS=Église Saint-Jean-Baptiste 4237 avenue Henri-Julien Montréal Québec H2W 2K7 Canada;X-APPLE-RADIUS=500;X-TITLE=4237\, avenue Henri-Julien:geo:-73.5799119,45.5211996
END:VEVENT
END:VCALENDAR