BEGIN:VCALENDAR
VERSION:2.0
PRODID:-//Ludwig Van Montreal - ECPv5.9.1//NONSGML v1.0//EN
CALSCALE:GREGORIAN
METHOD:PUBLISH
X-WR-CALNAME:Ludwig Van Montreal
X-ORIGINAL-URL:https://www.ludwig-van.com/montreal
X-WR-CALDESC:évènements pour Ludwig Van Montreal
BEGIN:VTIMEZONE
TZID:America/Toronto
BEGIN:DAYLIGHT
TZOFFSETFROM:-0500
TZOFFSETTO:-0400
TZNAME:EDT
DTSTART:20240310T070000
END:DAYLIGHT
BEGIN:STANDARD
TZOFFSETFROM:-0400
TZOFFSETTO:-0500
TZNAME:EST
DTSTART:20241103T060000
END:STANDARD
END:VTIMEZONE
BEGIN:VEVENT
DTSTART;TZID=America/Toronto:20240407T140000
DTEND;TZID=America/Toronto:20240407T160000
DTSTAMP:20260422T180716
CREATED:20230826T145744Z
LAST-MODIFIED:20230826T145744Z
UID:77540-1712498400-1712505600@www.ludwig-van.com
SUMMARY:Orchestre symphonique de Montréal | Osmose
DESCRIPTION:Découvrez l’orchestre symphonique\, ses familles d’instruments et la manière dont la musique génère des émotions en nous. Ce concert\, conçu comme une performance relaxée\, permettra aux petits comme aux grands de vivre une expérience musicale inclusive respectant les besoins particuliers de chacun.
URL:https://www.ludwig-van.com/montreal/event/orchestre-symphonique-de-montreal-osmose/
LOCATION:Maison Symphonique\, 1600 rue St-Urbain\, Montréal\, Québec\, H2S0X1\, Canada
CATEGORIES:Orchestra
ATTACH;FMTTYPE=image/jpeg:https://www.ludwig-van.com/montreal/wp-content/uploads/sites/3/2023/08/Osmose.jpg
GEO:45.5310103;-73.613956
X-APPLE-STRUCTURED-LOCATION;VALUE=URI;X-ADDRESS=Maison Symphonique 1600 rue St-Urbain Montréal Québec H2S0X1 Canada;X-APPLE-RADIUS=500;X-TITLE=1600 rue St-Urbain:geo:-73.613956,45.5310103
END:VEVENT
BEGIN:VEVENT
DTSTART;TZID=America/Toronto:20240407T143000
DTEND;TZID=America/Toronto:20240407T163000
DTSTAMP:20260422T180716
CREATED:20231110T161915Z
LAST-MODIFIED:20231110T161915Z
UID:78846-1712500200-1712507400@www.ludwig-van.com
SUMMARY:Arte Musica - Salle Bourgie | Illia Ovcharenko & Alexander Kashpurin - Hommage à Rachmaninov #3
DESCRIPTION:En hommage à Sergueï Rachmaninov\, dont on célèbre en 2023 le 150e anniversaire de la naissance\, deux pianistes virtuoses\, renommés pour leur jeu raffiné et leurs qualités de chambristes\, interprètent de ses œuvres pour deux pianos. La Salle Bourgie est ravie d’accueillir pour la première fois ces musiciens d’exception.
URL:https://www.ludwig-van.com/montreal/event/arte-musica-salle-bourgie-illia-ovcharenko-alexander-kashpurin-hommage-rachmaninov-3/
LOCATION:Salle Bourgie\, 1339 rue Sherbrooke Ouest\, Montréal\, Québec\, H3G 1G2\, Canada
CATEGORIES:piano
ATTACH;FMTTYPE=image/png:https://www.ludwig-van.com/montreal/wp-content/uploads/sites/3/2023/11/Serguei-Rachmaninov.png
GEO:45.4991991;-73.57963
X-APPLE-STRUCTURED-LOCATION;VALUE=URI;X-ADDRESS=Salle Bourgie 1339 rue Sherbrooke Ouest Montréal Québec H3G 1G2 Canada;X-APPLE-RADIUS=500;X-TITLE=1339 rue Sherbrooke Ouest:geo:-73.57963,45.4991991
END:VEVENT
BEGIN:VEVENT
DTSTART;TZID=America/Toronto:20240407T153000
DTEND;TZID=America/Toronto:20240407T173000
DTSTAMP:20260422T180716
CREATED:20230710T175223Z
LAST-MODIFIED:20230710T175223Z
UID:76941-1712503800-1712511000@www.ludwig-van.com
SUMMARY:Ladies’ Morning Musical Club | Stewart Goodyear
DESCRIPTION:Pianiste\, improvisateur et compositeur canadien\, Stewart Goodyear multiplie les projets musicaux visionnaires et innovants. Il fait notamment sa marque en 2010\, au Ottawa International Chamber Music Festival\, alors qu’il interprète les 32 sonates pour piano de Beethoven en neuf soirées de récital\, pour un total d’environ dix heures de musique. Goodyear a enregistré ces mêmes sonates de même que l’intégralité des concertos pour piano de Beethoven. Sa transcription pour piano solo du Casse-Noisette de Tchaïkovski s’est classée parmi les meilleurs enregistrements classiques de 2015 selon le New York Times\, et son album consacré aux Concertos pour piano nos 2 et 3 de Rachmaninov a reçu une nomination aux Prix Juno dans la catégorie « Meilleur album classique pour soliste et accompagnement de grand ensemble ». \nEn 2019\, Goodyear a enregistré sous étiquette Orchid Classics sa suite pour piano et orchestre Callaloo. Sa version du Concerto pour piano du compositeur afro-américain Adolphus Hailstork a été enregistrée avec le Buffalo Philharmonic sous la direction de JoAnn Falletta\, sous étiquette Naxos Music. 3e engagement au LMMC. \nLe programme détaillé sera disponible deux semaines avant le concert. \n 
URL:https://www.ludwig-van.com/montreal/event/ladies-morning-musical-club-stewart-goodyear/
LOCATION:Salle Pollack\, Pavillon Strathcona\, 555\, rue Sherbrooke Ouest\, Montréal\, Québec\, H3A 1E3\, Canada
CATEGORIES:piano
ATTACH;FMTTYPE=image/jpeg:https://www.ludwig-van.com/montreal/wp-content/uploads/sites/3/2017/12/Stewart-GoodyearA©Anita-Zvonar.jpg
ORGANIZER;CN="Concerts%20LMMC":MAILTO:lmmc@qc.aibn.com
GEO:45.5057624;-73.5735243
X-APPLE-STRUCTURED-LOCATION;VALUE=URI;X-ADDRESS=Salle Pollack Pavillon Strathcona 555 rue Sherbrooke Ouest Montréal Québec H3A 1E3 Canada;X-APPLE-RADIUS=500;X-TITLE=Pavillon Strathcona\, 555\, rue Sherbrooke Ouest:geo:-73.5735243,45.5057624
END:VEVENT
END:VCALENDAR