BEGIN:VCALENDAR
VERSION:2.0
PRODID:-//Ludwig Van Montreal - ECPv5.9.1//NONSGML v1.0//EN
CALSCALE:GREGORIAN
METHOD:PUBLISH
X-WR-CALNAME:Ludwig Van Montreal
X-ORIGINAL-URL:https://www.ludwig-van.com/montreal
X-WR-CALDESC:évènements pour Ludwig Van Montreal
BEGIN:VTIMEZONE
TZID:America/Toronto
BEGIN:DAYLIGHT
TZOFFSETFROM:-0500
TZOFFSETTO:-0400
TZNAME:EDT
DTSTART:20240310T070000
END:DAYLIGHT
BEGIN:STANDARD
TZOFFSETFROM:-0400
TZOFFSETTO:-0500
TZNAME:EST
DTSTART:20241103T060000
END:STANDARD
END:VTIMEZONE
BEGIN:VEVENT
DTSTART;TZID=America/Toronto:20240406T163000
DTEND;TZID=America/Toronto:20240406T183000
DTSTAMP:20260422T195456
CREATED:20231110T160045Z
LAST-MODIFIED:20231110T160045Z
UID:78840-1712421000-1712428200@www.ludwig-van.com
SUMMARY:Arte Musica - Salle Bourgie | Illia Ovcharenko\, piano - Hommage à Rachmaninov #1
DESCRIPTION:Récipiendaire en 2022 du premier prix lors du prestigieux concours Honens\, le pianiste Illia Ovcharenko a pris d’assaut la scène musicale mondiale par sa technique sans faille et sa profonde compréhension affective et intellectuelle des œuvres qu’il interprète.
URL:https://www.ludwig-van.com/montreal/event/arte-musica-salle-bourgie-illia-ovcharenko-piano-hommage-rachmaninov-1/
LOCATION:Salle Bourgie\, 1339 rue Sherbrooke Ouest\, Montréal\, Québec\, H3G 1G2\, Canada
CATEGORIES:piano
ATTACH;FMTTYPE=image/png:https://www.ludwig-van.com/montreal/wp-content/uploads/sites/3/2023/11/Illia-Ovcharenko.png
GEO:45.4991991;-73.57963
X-APPLE-STRUCTURED-LOCATION;VALUE=URI;X-ADDRESS=Salle Bourgie 1339 rue Sherbrooke Ouest Montréal Québec H3G 1G2 Canada;X-APPLE-RADIUS=500;X-TITLE=1339 rue Sherbrooke Ouest:geo:-73.57963,45.4991991
END:VEVENT
BEGIN:VEVENT
DTSTART;TZID=America/Toronto:20240406T193000
DTEND;TZID=America/Toronto:20240406T213000
DTSTAMP:20260422T195456
CREATED:20231106T203950Z
LAST-MODIFIED:20231106T203950Z
UID:78812-1712431800-1712439000@www.ludwig-van.com
SUMMARY:Sinfonia de Montréal | Passion - Rendez-Vous Symphoniques
DESCRIPTION:Un concert passionné avec trois grands classiques symphoniques à redécouvrir. Le concerto pour piano de Prokofiev met de l’avant la fougue et la virtuosité du jeune pianiste Phillip Chan\, tandis que Brahms et Schuman\, tous deux inspirés par la même muse\, expriment leur lyrisme romantique dans ces deux symphonies. \n 
URL:https://www.ludwig-van.com/montreal/event/sinfonia-de-montreal-passion-rendez-vous-symphoniques/
LOCATION:Salle Claude-Champagne\, 220\, avenue Vincent-d'Indy\, Montréal\, Québec\, H2V 2T2\, Canada
CATEGORIES:Orchestra
ATTACH;FMTTYPE=image/jpeg:https://www.ludwig-van.com/montreal/wp-content/uploads/sites/3/2023/11/Sinfonia-2024-04-06-Banniere-1.jpg
ORGANIZER;CN="Sinfonia%20de%20Montr%C3%A9al":MAILTO:ensemblesinfonia@gmail.com
GEO:45.5094594;-73.6100599
X-APPLE-STRUCTURED-LOCATION;VALUE=URI;X-ADDRESS=Salle Claude-Champagne 220 avenue Vincent-d'Indy Montréal Québec H2V 2T2 Canada;X-APPLE-RADIUS=500;X-TITLE=220\, avenue Vincent-d'Indy:geo:-73.6100599,45.5094594
END:VEVENT
BEGIN:VEVENT
DTSTART;TZID=America/Toronto:20240406T193000
DTEND;TZID=America/Toronto:20240406T213000
DTSTAMP:20260422T195456
CREATED:20231110T160845Z
LAST-MODIFIED:20231110T160845Z
UID:78843-1712431800-1712439000@www.ludwig-van.com
SUMMARY:Arte Musica - Salle Bourgie | Alexander Kashpurin\, piano - Hommage à Rachmaninov #2
DESCRIPTION:Étoile montante de la jeune génération de pianistes\, Alexander Kashpurin est promis à une brillante carrière grâce à son talent hors pair. Possédant une véritable personnalité musicale ainsi qu’une technique impressionnante\, il propose au public un récital comprenant deux œuvres phares de Rachmaninov.
URL:https://www.ludwig-van.com/montreal/event/arte-musica-salle-bourgie-alexander-kashpurin-piano-hommage-rachmaninov-2/
LOCATION:Salle Bourgie\, 1339 rue Sherbrooke Ouest\, Montréal\, Québec\, H3G 1G2\, Canada
CATEGORIES:piano
ATTACH;FMTTYPE=image/png:https://www.ludwig-van.com/montreal/wp-content/uploads/sites/3/2023/11/Alexander-Kashpurin.png
GEO:45.4991991;-73.57963
X-APPLE-STRUCTURED-LOCATION;VALUE=URI;X-ADDRESS=Salle Bourgie 1339 rue Sherbrooke Ouest Montréal Québec H3G 1G2 Canada;X-APPLE-RADIUS=500;X-TITLE=1339 rue Sherbrooke Ouest:geo:-73.57963,45.4991991
END:VEVENT
END:VCALENDAR