BEGIN:VCALENDAR
VERSION:2.0
PRODID:-//Ludwig Van Montreal - ECPv5.9.1//NONSGML v1.0//EN
CALSCALE:GREGORIAN
METHOD:PUBLISH
X-WR-CALNAME:Ludwig Van Montreal
X-ORIGINAL-URL:https://www.ludwig-van.com/montreal
X-WR-CALDESC:évènements pour Ludwig Van Montreal
BEGIN:VTIMEZONE
TZID:America/Toronto
BEGIN:DAYLIGHT
TZOFFSETFROM:-0500
TZOFFSETTO:-0400
TZNAME:EDT
DTSTART:20240310T070000
END:DAYLIGHT
BEGIN:STANDARD
TZOFFSETFROM:-0400
TZOFFSETTO:-0500
TZNAME:EST
DTSTART:20241103T060000
END:STANDARD
END:VTIMEZONE
BEGIN:VEVENT
DTSTART;TZID=America/Toronto:20240327T193000
DTEND;TZID=America/Toronto:20240327T213000
DTSTAMP:20260425T063109
CREATED:20230813T222340Z
LAST-MODIFIED:20240325T204916Z
UID:77412-1711567800-1711575000@www.ludwig-van.com
SUMMARY:Orchestre symphonique de Montréal | Masaaki Suzuki et la Passion selon Saint-Jean de Bach
DESCRIPTION:Spécialiste incontesté de la musique de Bach\, Masaaki Suzuki retrouve l’OSM pour diriger l’émouvante Passion selon saint Jean. Sous la plume du compositeur\, la musique métamorphose le texte sacré en accentuant son caractère tragique. Les récits de l’évangéliste\, d’une ardente expressivité\, sont le fil conducteur d’un drame ponctué par des arias contemplatifs. Quant aux chorals méditatifs confiés au chœur\, ils charpentent l’œuvre et lui confèrent une dimension universelle et intemporelle.
URL:https://www.ludwig-van.com/montreal/event/orchestre-symphonique-de-montreal-masaaki-suzuki-et-la-passion-selon-saint-jean-de-bach/2024-03-27/
LOCATION:Maison Symphonique\, 1600 rue St-Urbain\, Montréal\, Québec\, H2S0X1\, Canada
CATEGORIES:Orchestra
ATTACH;FMTTYPE=image/jpeg:https://www.ludwig-van.com/montreal/wp-content/uploads/sites/3/2023/08/Masaaki-Suzuki.jpg
GEO:45.5310103;-73.613956
X-APPLE-STRUCTURED-LOCATION;VALUE=URI;X-ADDRESS=Maison Symphonique 1600 rue St-Urbain Montréal Québec H2S0X1 Canada;X-APPLE-RADIUS=500;X-TITLE=1600 rue St-Urbain:geo:-73.613956,45.5310103
END:VEVENT
BEGIN:VEVENT
DTSTART;TZID=America/Toronto:20240327T193000
DTEND;TZID=America/Toronto:20240327T213000
DTSTAMP:20260425T063109
CREATED:20230925T222107Z
LAST-MODIFIED:20230925T222107Z
UID:78119-1711567800-1711575000@www.ludwig-van.com
SUMMARY:Faculté de musique de l’Université de Montréal | Le Big Band et Anat Cohen
DESCRIPTION:Le Big Band de l’Université de Montréal reçoit la clarinettiste-saxophoniste Anat Cohen. Considérée comme l’une des meilleures clarinettistes de jazz\, elle brille par sa virtuosité expressive\, son charisme et son jeu inspiré. Nominée aux Grammy Awards à plusieurs reprises\, Anat Cohen a également reçu le prix Wall of Fame de l’American Society of Composer and Publishers (ASCAP) en 2009. L’invitation est lancée pour participer à un événement exceptionnel avec cette prodigieuse musicienne et le Big Band de l’UdeM! \nLors de ce concert\, les étudiantes et étudiants lauréats des prix Dr Stephen et Susan Fichman en jazz seront annoncés. \nLa Faculté de musique bénéficie du soutien du fonds Sophie Desmarais pour le Big Band de l’Université de Montréal. \nDurant son séjour à la Faculté de musique\, Anat Cohen offrira un cours de maître public gratuit le mardi 26 mars à 16 h 30 à la salle Claude-Champagne.
URL:https://www.ludwig-van.com/montreal/event/faculte-de-musique-de-luniversite-de-montreal-le-big-band-et-anat-cohen/
LOCATION:Salle Claude-Champagne\, 220\, avenue Vincent-d'Indy\, Montréal\, Québec\, H2V 2T2\, Canada
CATEGORIES:Jazz
ATTACH;FMTTYPE=image/jpeg:https://www.ludwig-van.com/montreal/wp-content/uploads/sites/3/2023/09/Anat-Cohen.jpg
ORGANIZER;CN="Facult%C3%A9%20de%20musique%20de%20l%E2%80%99Universit%C3%A9%20de%20Montr%C3%A9al":MAILTO:musique@umontreal.ca
GEO:45.5094594;-73.6100599
X-APPLE-STRUCTURED-LOCATION;VALUE=URI;X-ADDRESS=Salle Claude-Champagne 220 avenue Vincent-d'Indy Montréal Québec H2V 2T2 Canada;X-APPLE-RADIUS=500;X-TITLE=220\, avenue Vincent-d'Indy:geo:-73.6100599,45.5094594
END:VEVENT
END:VCALENDAR