BEGIN:VCALENDAR
VERSION:2.0
PRODID:-//Ludwig Van Montreal - ECPv5.9.1//NONSGML v1.0//EN
CALSCALE:GREGORIAN
METHOD:PUBLISH
X-WR-CALNAME:Ludwig Van Montreal
X-ORIGINAL-URL:https://www.ludwig-van.com/montreal
X-WR-CALDESC:évènements pour Ludwig Van Montreal
BEGIN:VTIMEZONE
TZID:America/Toronto
BEGIN:DAYLIGHT
TZOFFSETFROM:-0500
TZOFFSETTO:-0400
TZNAME:EDT
DTSTART:20180311T070000
END:DAYLIGHT
BEGIN:STANDARD
TZOFFSETFROM:-0400
TZOFFSETTO:-0500
TZNAME:EST
DTSTART:20181104T060000
END:STANDARD
END:VTIMEZONE
BEGIN:VEVENT
DTSTART;TZID=America/Toronto:20181130T193000
DTEND;TZID=America/Toronto:20181130T213000
DTSTAMP:20260421T203501
CREATED:20180829T234027Z
LAST-MODIFIED:20181019T223914Z
UID:56110-1543606200-1543613400@www.ludwig-van.com
SUMMARY:Université de Montréal | L’Atelier d’opéra et l’Atelier de musique baroque : « The Fairy Queen » de Henry Purcell
DESCRIPTION:L’Atelier d’opéra de l’UdeM\, sous la direction de Robin Wheeler\, en collaboration avec l’Atelier de musique baroque de l’UdeM\, sous la direction de Luc Beauséjour\, avec la participation du Chœur de l’Atelier d’opéra \nMise en scène et chorégraphie : Marie-Nathalie Lacoursière \nPour une vingtaine de solistes\, un chœur de quinze chanteurs\, deux danseuses et un orchestre de dix musiciens. \nRésumé \nCe semi-opéra\, composé par Henry Purcell en 1692\,  comporte un livret anonyme adapté de la célèbre pièce de William Shakespeare Le Songe d’une nuit d’été. \n« The Fairy Queen de Henry Purcell\, tel que présenté à la fin du XVIIe siècle anglais\, intégrait théâtre et musique. De cette « Reine des fées »\, nous présenterons ainsi un florilège d’airs chantés\, de chœurs et de danses. Pour construire notre spectacle\, la metteure en scène a imaginé une fiction. C’est donc dans une station de train que nos personnages évolueront. Ce lieu de passage\, d’attente\, de transition\, de fuite vers une destination connue ou inconnue nous fera découvrir des individus en quête de changement.  Et si notre course constante s’arrêtait pour un moment? Pourrions-nous découvrir une autre destination\, un lieu féérique ou notre imagination pourrait se laisser aller?  Réalité ou fiction? »  – Luc Beauséjour\, directeur de l’Atelier de musique baroque de l’UdeM et  Marie-Nathalie Lacoursière\, metteure en scène \nAdmission gratuite
URL:https://www.ludwig-van.com/montreal/event/universite-de-montreal-latelier-dopera-latelier-de-musique-baroque-the-fairy-queen-de-henry-purcell/2018-11-30/
LOCATION:Salle Claude-Champagne\, 220\, avenue Vincent-d'Indy\, Montréal\, Québec\, H2V 2T2\, Canada
CATEGORIES:opera,Period ensemble,Vocal
ATTACH;FMTTYPE=image/jpeg:https://www.ludwig-van.com/montreal/wp-content/uploads/sites/3/2018/08/The_Fairy_Queen_800px.jpg
ORGANIZER;CN="Facult%C3%A9%20de%20musique%20de%20l%E2%80%99Universit%C3%A9%20de%20Montr%C3%A9al":MAILTO:musique@umontreal.ca
GEO:45.5094594;-73.6100599
X-APPLE-STRUCTURED-LOCATION;VALUE=URI;X-ADDRESS=Salle Claude-Champagne 220 avenue Vincent-d'Indy Montréal Québec H2V 2T2 Canada;X-APPLE-RADIUS=500;X-TITLE=220\, avenue Vincent-d'Indy:geo:-73.6100599,45.5094594
END:VEVENT
END:VCALENDAR