BEGIN:VCALENDAR
VERSION:2.0
PRODID:-//Ludwig Van Montreal - ECPv5.9.1//NONSGML v1.0//EN
CALSCALE:GREGORIAN
METHOD:PUBLISH
X-WR-CALNAME:Ludwig Van Montreal
X-ORIGINAL-URL:https://www.ludwig-van.com/montreal
X-WR-CALDESC:évènements pour Ludwig Van Montreal
BEGIN:VTIMEZONE
TZID:America/Toronto
BEGIN:DAYLIGHT
TZOFFSETFROM:-0500
TZOFFSETTO:-0400
TZNAME:EDT
DTSTART:20240310T070000
END:DAYLIGHT
BEGIN:STANDARD
TZOFFSETFROM:-0400
TZOFFSETTO:-0500
TZNAME:EST
DTSTART:20241103T060000
END:STANDARD
END:VTIMEZONE
BEGIN:VEVENT
DTSTART;TZID=America/Toronto:20240225T150000
DTEND;TZID=America/Toronto:20240225T170000
DTSTAMP:20260423T014549
CREATED:20240126T020040Z
LAST-MODIFIED:20240126T020040Z
UID:79670-1708873200-1708880400@www.ludwig-van.com
SUMMARY:Pro Musica | Série Cartes blanches : Piano symphonique - Kevin Chen\, piano
DESCRIPTION:Né en 2005\, Kevin Chen\, pianiste\, remporte\, à 8 ans\, le premier prix au Concours de musique du Canada et le premier prix à l’examen ARCT du Royal Conservatory of Music. À 9 ans\, il est reconnu par la CBC comme l’un des «30 musiciens classiques canadiens les plus prometteurs de moins de 30 ans « et comme l’un des « 100 Canadiens remarquables » par le Maclean’s. \nIl retient l’attention sur la scène internationale en enchaînant les premiers prix: Concours international de piano Arthur Rubinstein (2023)\, Concours de Genève (2022)\, Concours international de piano Franz Liszt (2021)\, où il est le plus jeune concurrent et lauréat de l’histoire\, ainsi que Concours international de piano Mozart (2020). \nÀ 18 ans\, Kevin Chen est aussi un compositeur accompli\, avec plus d’une centaine d’œuvres à son actif\, notamment un concerto pour piano et quatre symphonies complètes pour orchestre. \nPROGRAMME \n\nLUDWIG VAN BEETHOVEN Sonate pour piano no. 28 en la majeur\, op. 101\nFELIX MENDELSSOHN Fantaisie pour piano\, op.28\nMAURICE RAVEL La valse\, M. 72\, arr. du compositeur\nFRANZ LISZT Années de pèlerinage II; Sonetti 47\, 104\, 123 del Petrarca\, S. 161; Réminiscences de Norma\, S. 394 \n  \nENTRÉE : Régulier 64 $; Aîné 59 $; 35 ans et moins 35 $; Étudiant 25 $
URL:https://www.ludwig-van.com/montreal/event/pro-musica-serie-cartes-blanches-piano-symphonique-kevin-chen-piano/
LOCATION:Salle Pierre-Mercure — Centre Pierre-Péladeau\, 300\, boulevard de Maisonneuve Est\, Montréal\, Québec\, H2X 3X6\, Canada
CATEGORIES:piano
ATTACH;FMTTYPE=image/jpeg:https://www.ludwig-van.com/montreal/wp-content/uploads/sites/3/2024/01/Kevin-Chen_resized.jpg
ORGANIZER;CN="Soci%C3%A9t%C3%A9%20Pro%20Musica":MAILTO:concerts@promusica.qc.ca
GEO:45.5137738;-73.5621857
X-APPLE-STRUCTURED-LOCATION;VALUE=URI;X-ADDRESS=Salle Pierre-Mercure — Centre Pierre-Péladeau 300 boulevard de Maisonneuve Est Montréal Québec H2X 3X6 Canada;X-APPLE-RADIUS=500;X-TITLE=300\, boulevard de Maisonneuve Est:geo:-73.5621857,45.5137738
END:VEVENT
END:VCALENDAR