BEGIN:VCALENDAR
VERSION:2.0
PRODID:-//Ludwig Van Montreal - ECPv5.9.1//NONSGML v1.0//EN
CALSCALE:GREGORIAN
METHOD:PUBLISH
X-WR-CALNAME:Ludwig Van Montreal
X-ORIGINAL-URL:https://www.ludwig-van.com/montreal
X-WR-CALDESC:évènements pour Ludwig Van Montreal
BEGIN:VTIMEZONE
TZID:America/Toronto
BEGIN:DAYLIGHT
TZOFFSETFROM:-0500
TZOFFSETTO:-0400
TZNAME:EDT
DTSTART:20240310T070000
END:DAYLIGHT
BEGIN:STANDARD
TZOFFSETFROM:-0400
TZOFFSETTO:-0500
TZNAME:EST
DTSTART:20241103T060000
END:STANDARD
END:VTIMEZONE
BEGIN:VEVENT
DTSTART;TZID=America/Toronto:20240430T193000
DTEND;TZID=America/Toronto:20240430T213000
DTSTAMP:20260421T011258
CREATED:20230826T154839Z
LAST-MODIFIED:20230826T154839Z
UID:77563-1714505400-1714512600@www.ludwig-van.com
SUMMARY:Orchestre symphonique de Montréal | Zimmermann et le magistral Concerto pour violon de Brahms
DESCRIPTION:Frank Peter Zimmermann\, l’un des plus grands violonistes actuels\, interprétera le Concerto pour violon de Brahms. Dans cette œuvre quasi symphonique\, l’orchestre et le soliste dialoguent d’égal à égal. Toutefois\, c’est l’énergie festive du violon qui entrainera l’orchestre dans un finale enjoué aux accents tziganes. Contemporaine de Brahms\, Emilie Mayer est une compositrice à découvrir : sa fascinante personnalité musicale s’affirme dans sa Symphonie no 7\, une partition très originale parcourue d’élans passionnés.
URL:https://www.ludwig-van.com/montreal/event/orchestre-symphonique-de-montreal-zimmermann-et-le-magistral-concerto-pour-violon-de-brahms/2024-04-30/
LOCATION:Maison Symphonique\, 1600 rue St-Urbain\, Montréal\, Québec\, H2S0X1\, Canada
CATEGORIES:Orchestra
ATTACH;FMTTYPE=image/jpeg:https://www.ludwig-van.com/montreal/wp-content/uploads/sites/3/2023/08/Frank-Peter-Zimmermann.jpg
GEO:45.5310103;-73.613956
X-APPLE-STRUCTURED-LOCATION;VALUE=URI;X-ADDRESS=Maison Symphonique 1600 rue St-Urbain Montréal Québec H2S0X1 Canada;X-APPLE-RADIUS=500;X-TITLE=1600 rue St-Urbain:geo:-73.613956,45.5310103
END:VEVENT
END:VCALENDAR