BEGIN:VCALENDAR
VERSION:2.0
PRODID:-//Ludwig Van Montreal - ECPv5.9.1//NONSGML v1.0//EN
CALSCALE:GREGORIAN
METHOD:PUBLISH
X-WR-CALNAME:Ludwig Van Montreal
X-ORIGINAL-URL:https://www.ludwig-van.com/montreal
X-WR-CALDESC:évènements pour Ludwig Van Montreal
BEGIN:VTIMEZONE
TZID:America/Toronto
BEGIN:DAYLIGHT
TZOFFSETFROM:-0500
TZOFFSETTO:-0400
TZNAME:EDT
DTSTART:20240310T070000
END:DAYLIGHT
BEGIN:STANDARD
TZOFFSETFROM:-0400
TZOFFSETTO:-0500
TZNAME:EST
DTSTART:20241103T060000
END:STANDARD
END:VTIMEZONE
BEGIN:VEVENT
DTSTART;TZID=America/Toronto:20240323T193000
DTEND;TZID=America/Toronto:20240323T213000
DTSTAMP:20260425T122001
CREATED:20230813T214634Z
LAST-MODIFIED:20230813T214634Z
UID:77403-1711222200-1711229400@www.ludwig-van.com
SUMMARY:Orchestre symphonique de Montréal | The immigrant de Charlie Chaplin
DESCRIPTION:Explorez le monde du court métrage en compagnie de Thomas Ospital\, organiste spécialisé dans l’accompagnement des films muets. Partez à l’aventure avec Charlot\, l’éternel vagabond\, dans The Immigrant un petit bijou du genre ! Au cours de ce ciné-concert\, découvrez également l’univers visuel du cinéaste canadien Norman McLaren avec Neighbours\, un film expérimental\, et Spook Sport\, un film d’animation conçu sur la musique de la Danse macabre de Saint-Saëns.
URL:https://www.ludwig-van.com/montreal/event/orchestre-symphonique-de-montreal-immigrant-de-charlie-chaplin/
LOCATION:Maison Symphonique\, 1600 rue St-Urbain\, Montréal\, Québec\, H2S0X1\, Canada
CATEGORIES:Film
ATTACH;FMTTYPE=image/jpeg:https://www.ludwig-van.com/montreal/wp-content/uploads/sites/3/2023/08/Thomas-Ospital.jpg
GEO:45.5310103;-73.613956
X-APPLE-STRUCTURED-LOCATION;VALUE=URI;X-ADDRESS=Maison Symphonique 1600 rue St-Urbain Montréal Québec H2S0X1 Canada;X-APPLE-RADIUS=500;X-TITLE=1600 rue St-Urbain:geo:-73.613956,45.5310103
END:VEVENT
END:VCALENDAR