BEGIN:VCALENDAR
VERSION:2.0
PRODID:-//Ludwig Van Montreal - ECPv5.9.1//NONSGML v1.0//EN
CALSCALE:GREGORIAN
METHOD:PUBLISH
X-WR-CALNAME:Ludwig Van Montreal
X-ORIGINAL-URL:https://www.ludwig-van.com/montreal
X-WR-CALDESC:évènements pour Ludwig Van Montreal
BEGIN:VTIMEZONE
TZID:America/Toronto
BEGIN:DAYLIGHT
TZOFFSETFROM:-0500
TZOFFSETTO:-0400
TZNAME:EDT
DTSTART:20240310T070000
END:DAYLIGHT
BEGIN:STANDARD
TZOFFSETFROM:-0400
TZOFFSETTO:-0500
TZNAME:EST
DTSTART:20241103T060000
END:STANDARD
END:VTIMEZONE
BEGIN:VEVENT
DTSTART;TZID=America/Toronto:20240417T193000
DTEND;TZID=America/Toronto:20240417T213000
DTSTAMP:20260422T021905
CREATED:20231130T222046Z
LAST-MODIFIED:20231203T160737Z
UID:79123-1713382200-1713389400@www.ludwig-van.com
SUMMARY:Orchestre symphonique de Laval | Musique du Nouveau Monde
DESCRIPTION:Dans des œuvres de compositeurs et de compositrices des Amériques\, d’hier et d’aujourd’hui\, venez entendre la célèbre Rhapsody in Blue de Gershwin interprétée par la jazzwoman québécoise Lorraine Desmarais\, ainsi que la populaire Symphonie du Nouveau Monde de Dvořák dirigée par l’étonnante et dynamique cheffe d’orchestre Naomi Woo. \nProgramme : \nJocelyn Morlock\nHullabaloo \nGabriela Lena Frank\nElegia andina \nGeorge Gershwin\nRhaspsody in Blue \nAntonín Dvořák\nSymphonie n° 9\, en mi mineur\, op. 95 « Du Nouveau Monde » \nCheffe d’orchestre : Naomi Woo \nSoliste : Lorraine Desmarais\, piano
URL:https://www.ludwig-van.com/montreal/event/orchestre-symphonique-de-laval-musique-du-nouveau-monde/
LOCATION:Salle André-Mathieu\, 475 Boulevard de l'Avenir\, Laval\, Québec\, H7N 5H9\, Canada
CATEGORIES:Orchestra
ATTACH;FMTTYPE=image/png:https://www.ludwig-van.com/montreal/wp-content/uploads/sites/3/2023/11/OSL_Nouveau-monde.png
GEO:45.5599926;-73.7188476
X-APPLE-STRUCTURED-LOCATION;VALUE=URI;X-ADDRESS=Salle André-Mathieu 475 Boulevard de l'Avenir Laval Québec H7N 5H9 Canada;X-APPLE-RADIUS=500;X-TITLE=475 Boulevard de l'Avenir:geo:-73.7188476,45.5599926
END:VEVENT
END:VCALENDAR