BEGIN:VCALENDAR
VERSION:2.0
PRODID:-//Ludwig Van Montreal - ECPv5.9.1//NONSGML v1.0//EN
CALSCALE:GREGORIAN
METHOD:PUBLISH
X-WR-CALNAME:Ludwig Van Montreal
X-ORIGINAL-URL:https://www.ludwig-van.com/montreal
X-WR-CALDESC:évènements pour Ludwig Van Montreal
BEGIN:VTIMEZONE
TZID:America/Toronto
BEGIN:DAYLIGHT
TZOFFSETFROM:-0500
TZOFFSETTO:-0400
TZNAME:EDT
DTSTART:20240310T070000
END:DAYLIGHT
BEGIN:STANDARD
TZOFFSETFROM:-0400
TZOFFSETTO:-0500
TZNAME:EST
DTSTART:20241103T060000
END:STANDARD
END:VTIMEZONE
BEGIN:VEVENT
DTSTART;TZID=America/Toronto:20240320T193000
DTEND;TZID=America/Toronto:20240320T213000
DTSTAMP:20260425T162019
CREATED:20231114T211209Z
LAST-MODIFIED:20231114T211209Z
UID:78934-1710963000-1710970200@www.ludwig-van.com
SUMMARY:Ensemble Scholastica | Hildegard et ses Saintes
DESCRIPTION:Par ses écrits\, ses dessins visionnaires\, ses traités de médecine et ses quelques soixante-dix compositions musicales\, Hildegard von Bingen (1098-1179) est l’une des figures féminines les plus célèbres de tout le Moyen Âge. Sa voix\, extrêmement originale\, offre une perspective résolument féminine. Ses chants étaient dédiés à de nombreuses entités célestes\, dont sa préférée\, la Vierge Marie\, joyau radieux disposant du pouvoir de sauver l’humanité\, ou alors sainte Ursule\, avec son armée de onze mille vierges et martyres. Toutes deux ont servi d’inspiration pour plusieurs des pièces les plus belles et les plus élaborées de Hildegard.
URL:https://www.ludwig-van.com/montreal/event/ensemble-scholastica-hildegard-et-ses-saintes/
LOCATION:L’Ermitage\, 3510\, chemin de la Côte-des-Neiges\, Montréal\, Québec\, H3H 1T9\, Canada
CATEGORIES:Period ensemble
ATTACH;FMTTYPE=image/jpeg:https://www.ludwig-van.com/montreal/wp-content/uploads/sites/3/2023/11/hildegardsaintes.jpg
ORGANIZER;CN="Ensemble%20Scholastica":MAILTO:info@ensemblescholastica.ca
END:VEVENT
END:VCALENDAR