BEGIN:VCALENDAR
VERSION:2.0
PRODID:-//Ludwig Van Montreal - ECPv5.9.1//NONSGML v1.0//EN
CALSCALE:GREGORIAN
METHOD:PUBLISH
X-WR-CALNAME:Ludwig Van Montreal
X-ORIGINAL-URL:https://www.ludwig-van.com/montreal
X-WR-CALDESC:évènements pour Ludwig Van Montreal
BEGIN:VTIMEZONE
TZID:America/Toronto
BEGIN:DAYLIGHT
TZOFFSETFROM:-0500
TZOFFSETTO:-0400
TZNAME:EDT
DTSTART:20180311T070000
END:DAYLIGHT
BEGIN:STANDARD
TZOFFSETFROM:-0400
TZOFFSETTO:-0500
TZNAME:EST
DTSTART:20181104T060000
END:STANDARD
END:VTIMEZONE
BEGIN:VEVENT
DTSTART;TZID=America/Toronto:20181130T193000
DTEND;TZID=America/Toronto:20181130T210000
DTSTAMP:20260421T145038
CREATED:20181108T004211Z
LAST-MODIFIED:20181108T004211Z
UID:57393-1543606200-1543611600@www.ludwig-van.com
SUMMARY:Ensemble Caprice | Valérie Milot et J.S. Bach : Concertos pour harpe
DESCRIPTION:Une première musicale :  Des concertos de Bach pour harpe! \nC’est avec bonheur que l’Ensemble Caprice invite la grande harpiste Valérie Milot qui propose ses propres arrangements des célèbres concertos à l’origine pour clavecin.  De plus\, au programme\, la première d’un concerto grosso pour violon\, flûte et harpe de Airat Ichmouratov\, compositeur canadien d’origine russe.  Un univers sonore à découvrir! \nConcert présenté dans le cadre du Festival Bach Montréal.
URL:https://www.ludwig-van.com/montreal/event/ensemble-caprice-valerie-milot-j-s-bach-concertos-harpe/
LOCATION:Salle Bourgie\, 1339 rue Sherbrooke Ouest\, Montréal\, Québec\, H3G 1G2\, Canada
CATEGORIES:Festival,Harp,Period ensemble,Violin
ATTACH;FMTTYPE=image/jpeg:https://www.ludwig-van.com/montreal/wp-content/uploads/sites/3/2017/09/EnsembleCaprice-Valérie-MilotLVM.jpg
ORGANIZER;CN="Ensemble%20Caprice":MAILTO:info@ensemblecaprice.com
GEO:45.4991991;-73.57963
X-APPLE-STRUCTURED-LOCATION;VALUE=URI;X-ADDRESS=Salle Bourgie 1339 rue Sherbrooke Ouest Montréal Québec H3G 1G2 Canada;X-APPLE-RADIUS=500;X-TITLE=1339 rue Sherbrooke Ouest:geo:-73.57963,45.4991991
END:VEVENT
END:VCALENDAR