BEGIN:VCALENDAR
VERSION:2.0
PRODID:-//Ludwig Van Montreal - ECPv5.9.1//NONSGML v1.0//EN
CALSCALE:GREGORIAN
METHOD:PUBLISH
X-WR-CALNAME:Ludwig Van Montreal
X-ORIGINAL-URL:https://www.ludwig-van.com/montreal
X-WR-CALDESC:évènements pour Ludwig Van Montreal
BEGIN:VTIMEZONE
TZID:America/Toronto
BEGIN:DAYLIGHT
TZOFFSETFROM:-0500
TZOFFSETTO:-0400
TZNAME:EDT
DTSTART:20180311T070000
END:DAYLIGHT
BEGIN:STANDARD
TZOFFSETFROM:-0400
TZOFFSETTO:-0500
TZNAME:EST
DTSTART:20181104T060000
END:STANDARD
END:VTIMEZONE
BEGIN:VEVENT
DTSTART;TZID=America/Toronto:20181020T193000
DTEND;TZID=America/Toronto:20181020T210000
DTSTAMP:20260421T203313
CREATED:20181009T174606Z
LAST-MODIFIED:20181009T174606Z
UID:56724-1540063800-1540069200@www.ludwig-van.com
SUMMARY:Conservatoire de musique de Montréal | Série Vivace : Musique tchèque
DESCRIPTION:La Série VivaceLa série Vivace donne carte blanche à nos professeurs et anciens élèves qui présentent leurs invités de marque. \nLaurence Kayaleh\, violonElizabeth Dolin\, violoncelleClaire Ouellet\, piano \nÉlégie pour piano\, violon et violoncelle\, op. 23Josef SukPohádka pour violoncelle et pianoLeoš JanáčekAus Der Heimat pour violon et pianoBedřich SmetanaTrio pour piano\, violon et violoncelle no 4 en mi mineur « Dumky »\, op. 90 B 166Antonín Dvořák \n16 $ adulte | 8 $ étudiant
URL:https://www.ludwig-van.com/montreal/event/conservatoire-de-musique-de-montreal-serie-vivace-musique-tcheque/
LOCATION:Salle de concert du Conservatoire\, 4750 av Henri-Julien\, Montréal\, Québec\, H2T 2C8\, Canada
CATEGORIES:Cello,Chamber music,piano,Violin
ATTACH;FMTTYPE=image/jpeg:https://www.ludwig-van.com/montreal/wp-content/uploads/sites/3/2018/09/claire_ouellet-calendrier.jpg
ORGANIZER;CN="Conservatoire%20de%20musique%20de%20Montr%C3%A9al":MAILTO:CMM@conservatoire.gouv.qc.ca
GEO:45.523812;-73.5865519
X-APPLE-STRUCTURED-LOCATION;VALUE=URI;X-ADDRESS=Salle de concert du Conservatoire 4750 av Henri-Julien Montréal Québec H2T 2C8 Canada;X-APPLE-RADIUS=500;X-TITLE=4750 av Henri-Julien:geo:-73.5865519,45.523812
END:VEVENT
END:VCALENDAR