BEGIN:VCALENDAR
VERSION:2.0
PRODID:-//Ludwig Van Montreal - ECPv5.9.1//NONSGML v1.0//EN
CALSCALE:GREGORIAN
METHOD:PUBLISH
X-WR-CALNAME:Ludwig Van Montreal
X-ORIGINAL-URL:https://www.ludwig-van.com/montreal
X-WR-CALDESC:évènements pour Ludwig Van Montreal
BEGIN:VTIMEZONE
TZID:America/Toronto
BEGIN:DAYLIGHT
TZOFFSETFROM:-0500
TZOFFSETTO:-0400
TZNAME:EDT
DTSTART:20180311T070000
END:DAYLIGHT
BEGIN:STANDARD
TZOFFSETFROM:-0400
TZOFFSETTO:-0500
TZNAME:EST
DTSTART:20181104T060000
END:STANDARD
END:VTIMEZONE
BEGIN:VEVENT
DTSTART;TZID=America/Toronto:20181130T193000
DTEND;TZID=America/Toronto:20181130T213000
DTSTAMP:20260421T164615
CREATED:20181108T003312Z
LAST-MODIFIED:20181108T003312Z
UID:57391-1543606200-1543613400@www.ludwig-van.com
SUMMARY:Conservatoire de musique de Montréal | L’Ensemble de cuivres : Éclats de cuivres
DESCRIPTION:L’Ensemble de cuivres \nDirection : Patrice Richer \nOeuvres de Richard Wagner\, Modeste Moussorgski\, Paul Dukas et bien d’autres ! \n16 $ adulte | 8 $ étudiant
URL:https://www.ludwig-van.com/montreal/event/conservatoire-de-musique-de-montreal-lensemble-de-cuivres-eclats-de-cuivres/
LOCATION:Salle de concert du Conservatoire\, 4750 av Henri-Julien\, Montréal\, Québec\, H2T 2C8\, Canada
CATEGORIES:Chamber music
ATTACH;FMTTYPE=image/jpeg:https://www.ludwig-van.com/montreal/wp-content/uploads/sites/3/2018/09/Orchestre-symphonique-du-Conservatoire-calendrier.jpg
ORGANIZER;CN="Conservatoire%20de%20musique%20de%20Montr%C3%A9al":MAILTO:CMM@conservatoire.gouv.qc.ca
GEO:45.523812;-73.5865519
X-APPLE-STRUCTURED-LOCATION;VALUE=URI;X-ADDRESS=Salle de concert du Conservatoire 4750 av Henri-Julien Montréal Québec H2T 2C8 Canada;X-APPLE-RADIUS=500;X-TITLE=4750 av Henri-Julien:geo:-73.5865519,45.523812
END:VEVENT
END:VCALENDAR