BEGIN:VCALENDAR
VERSION:2.0
PRODID:-//Ludwig Van Montreal - ECPv5.9.1//NONSGML v1.0//EN
CALSCALE:GREGORIAN
METHOD:PUBLISH
X-WR-CALNAME:Ludwig Van Montreal
X-ORIGINAL-URL:https://www.ludwig-van.com/montreal
X-WR-CALDESC:évènements pour Ludwig Van Montreal
BEGIN:VTIMEZONE
TZID:America/Toronto
BEGIN:DAYLIGHT
TZOFFSETFROM:-0500
TZOFFSETTO:-0400
TZNAME:EDT
DTSTART:20180311T070000
END:DAYLIGHT
BEGIN:STANDARD
TZOFFSETFROM:-0400
TZOFFSETTO:-0500
TZNAME:EST
DTSTART:20181104T060000
END:STANDARD
END:VTIMEZONE
BEGIN:VEVENT
DTSTART;TZID=America/Toronto:20181201T200000
DTEND;TZID=America/Toronto:20181201T220000
DTSTAMP:20260421T143216
CREATED:20181123T033352Z
LAST-MODIFIED:20181123T033352Z
UID:57703-1543694400-1543701600@www.ludwig-van.com
SUMMARY:Conservatoire de musique de Montréal | Airs traditionnels de Noël : Cuivres\, choeur et orgue
DESCRIPTION:Direction : Chef de choeur à confirmer \nPatrice Richer\, chef de l’Ensemble de cuivres du ConservatoireThi-Trieu-Duong Vu\, orgue \nAvec la participation du Choeur du Conservatoire \n20 $ adulte | 8 $ étudiant
URL:https://www.ludwig-van.com/montreal/event/conservatoire-de-musique-de-montreal-airs-traditionnels-de-noel-cuivres-choeur-orgue/
LOCATION:Église Saints-Anges de Lachine\, 1400\, boul. Saint-Joseph\, Lachine\, Québec\, H8S 2M8\, Canada
CATEGORIES:Holiday,Organ,Vocal
ATTACH;FMTTYPE=image/jpeg:https://www.ludwig-van.com/montreal/wp-content/uploads/sites/3/2018/09/Orchestre-symphonique-du-Conservatoire-calendrier.jpg
ORGANIZER;CN="Conservatoire%20de%20musique%20de%20Montr%C3%A9al":MAILTO:CMM@conservatoire.gouv.qc.ca
GEO:45.4326634;-73.6767626
X-APPLE-STRUCTURED-LOCATION;VALUE=URI;X-ADDRESS=Église Saints-Anges de Lachine 1400 boul. Saint-Joseph Lachine Québec H8S 2M8 Canada;X-APPLE-RADIUS=500;X-TITLE=1400\, boul. Saint-Joseph:geo:-73.6767626,45.4326634
END:VEVENT
END:VCALENDAR