BEGIN:VCALENDAR
VERSION:2.0
PRODID:-//Ludwig Van Montreal - ECPv5.9.1//NONSGML v1.0//EN
CALSCALE:GREGORIAN
METHOD:PUBLISH
X-WR-CALNAME:Ludwig Van Montreal
X-ORIGINAL-URL:https://www.ludwig-van.com/montreal
X-WR-CALDESC:évènements pour Ludwig Van Montreal
BEGIN:VTIMEZONE
TZID:America/Toronto
BEGIN:DAYLIGHT
TZOFFSETFROM:-0500
TZOFFSETTO:-0400
TZNAME:EDT
DTSTART:20240310T070000
END:DAYLIGHT
BEGIN:STANDARD
TZOFFSETFROM:-0400
TZOFFSETTO:-0500
TZNAME:EST
DTSTART:20241103T060000
END:STANDARD
END:VTIMEZONE
BEGIN:VEVENT
DTSTART;TZID=America/Toronto:20240418T193000
DTEND;TZID=America/Toronto:20240418T213000
DTSTAMP:20260422T002230
CREATED:20230710T141113Z
LAST-MODIFIED:20230710T141113Z
UID:76887-1713468600-1713475800@www.ludwig-van.com
SUMMARY:Club musical de Québec | Amina Edris\, Pene Pati et Robert Mollicone
DESCRIPTION:Chant et piano\nVoici un récital qui combine plusieurs éléments rares avec ce duo d’étoiles montantes de la planète lyrique : composé du ténor samoais Pene Pati\, comparé à nul autre que Pavarotti\, et de la rayonnante soprano égyptienne Amina Edris\, ce couple qui s’est rencontré en Nouvelle-Zélande nous fait vibrer dans une combinaison de solos et de duos puisés à différentes sources du répertoire. Le pianiste Robert Mollicone dépeint magnifiquement à leurs côtés le paysage musical. \nPrélude au concert à 18 h 45
URL:https://www.ludwig-van.com/montreal/event/club-musical-de-quebec-amina-edris-pene-pati-et-robert-mollicone/
LOCATION:Palais Montcalm\, 995 Rue D'Youville\, Québec\, Québec\, G1R 3P1\, Canada
CATEGORIES:Orchestra
ATTACH;FMTTYPE=image/jpeg:https://www.ludwig-van.com/montreal/wp-content/uploads/sites/3/2023/07/Club-musical-de-Quebec_Duo-Edris-Pati_2799x1080.jpg
ORGANIZER;CN="Le%20Club%20musical%20de%20Qu%C3%A9bec":MAILTO:https://www.clubmusicaldequebec.com
GEO:46.8119861;-71.2131591
X-APPLE-STRUCTURED-LOCATION;VALUE=URI;X-ADDRESS=Palais Montcalm 995 Rue D'Youville Québec Québec G1R 3P1 Canada;X-APPLE-RADIUS=500;X-TITLE=995 Rue D'Youville:geo:-71.2131591,46.8119861
END:VEVENT
END:VCALENDAR