BEGIN:VCALENDAR
VERSION:2.0
PRODID:-//Ludwig Van Montreal - ECPv5.9.1//NONSGML v1.0//EN
CALSCALE:GREGORIAN
METHOD:PUBLISH
X-WR-CALNAME:Ludwig Van Montreal
X-ORIGINAL-URL:https://www.ludwig-van.com/montreal
X-WR-CALDESC:évènements pour Ludwig Van Montreal
BEGIN:VTIMEZONE
TZID:America/Toronto
BEGIN:DAYLIGHT
TZOFFSETFROM:-0500
TZOFFSETTO:-0400
TZNAME:EDT
DTSTART:20180311T070000
END:DAYLIGHT
BEGIN:STANDARD
TZOFFSETFROM:-0400
TZOFFSETTO:-0500
TZNAME:EST
DTSTART:20181104T060000
END:STANDARD
END:VTIMEZONE
BEGIN:VEVENT
DTSTART;TZID=America/Toronto:20181202T130000
DTEND;TZID=America/Toronto:20181202T143000
DTSTAMP:20260421T143053
CREATED:20180725T000649Z
LAST-MODIFIED:20180725T000649Z
UID:55621-1543755600-1543761000@www.ludwig-van.com
SUMMARY:Chapelle historique du Bon-Pasteur | Beethoven: intégrale des délices
DESCRIPTION:Paul Marleyn\, violoncelle\nStéphane Lemelin\, piano \nAprès-midi dédiée à l’intégrale des 5 sonates pour violoncelle et piano de Beethoven. Le public est amicalement convié à apporter biscuits et autres gourmandises maison et les partager pendant les pauses. \nLudwig v. Beethoven:\nSonate en fa\, opus 5\, no 1\nSonate en do\, opus 102\, no 2\nSonate en sol mineur\, opus 5\, no 1\nSonate en ré\, opus 102\, no 2\nSonate en la\, opus 69 \nBillets disponibles le 20 septembre 2018
URL:https://www.ludwig-van.com/montreal/event/chapelle-historique-pasteur-beethoven-integrale-delices/
LOCATION:Chapelle Historique du Bon-Pasteur\, 100\, rue Sherbrooke Est\, Montréal\, Québec\, H2X 1C3\, Canada
CATEGORIES:Cello,Chamber music,piano
ATTACH;FMTTYPE=image/jpeg:https://www.ludwig-van.com/montreal/wp-content/uploads/sites/3/2017/09/chapellehistorique-2-dec-Beethoven-intégrale-des-délices.jpg
ORGANIZER;CN="Chapelle%20Historique%20du%20Bon-Pasteur":MAILTO:chapelle@ville.montreal.qc.ca
GEO:45.5134842;-73.5685097
X-APPLE-STRUCTURED-LOCATION;VALUE=URI;X-ADDRESS=Chapelle Historique du Bon-Pasteur 100 rue Sherbrooke Est Montréal Québec H2X 1C3 Canada;X-APPLE-RADIUS=500;X-TITLE=100\, rue Sherbrooke Est:geo:-73.5685097,45.5134842
END:VEVENT
END:VCALENDAR