BEGIN:VCALENDAR
VERSION:2.0
PRODID:-//Ludwig Van Montreal - ECPv5.9.1//NONSGML v1.0//EN
CALSCALE:GREGORIAN
METHOD:PUBLISH
X-WR-CALNAME:Ludwig Van Montreal
X-ORIGINAL-URL:https://www.ludwig-van.com/montreal
X-WR-CALDESC:évènements pour Ludwig Van Montreal
BEGIN:VTIMEZONE
TZID:America/Toronto
BEGIN:DAYLIGHT
TZOFFSETFROM:-0500
TZOFFSETTO:-0400
TZNAME:EDT
DTSTART:20180311T070000
END:DAYLIGHT
BEGIN:STANDARD
TZOFFSETFROM:-0400
TZOFFSETTO:-0500
TZNAME:EST
DTSTART:20181104T060000
END:STANDARD
END:VTIMEZONE
BEGIN:VEVENT
DTSTART;TZID=America/Toronto:20181020T140000
DTEND;TZID=America/Toronto:20181020T150000
DTSTAMP:20260421T182513
CREATED:20180926T182547Z
LAST-MODIFIED:20180926T182547Z
UID:56549-1540044000-1540047600@www.ludwig-van.com
SUMMARY:Arte Musica | Les Talens Lyriques - Christophe Rousset - Ombre
DESCRIPTION:Christophe Rousset invite à un merveilleux voyage dans l’univers de François Couperin\, partagé entre ombre et lumière. \nOmbre dans la gravité des Pièces de viole\, dans le sérieux de quelques pièces de clavecin et surtout dans les Leçons de ténèbres pour la Semaine sainte. Lumière dans l’innocence de certaines pièces de clavecin\, dans l’éclat des Concerts royaux ou dans le badinage des airs sérieux. \nL’ensemble vocal et instrumental Les Talens Lyriques connait un large succès public et critique depuis sa fondation il y a vingt-cinq ans par Christophe Rousset. Il se produit à travers le monde dans des effectifs variant de quelques musiciens à plusieurs dizaines d’interprètes. Ce concert est son premier au Québec. \nLes Talens Lyriques sont soutenus par le Ministère de la Culture\, la Ville de Paris et le Cercle des Mécènes. L’Ensemble remercie ses Grands Mécènes : la Fondation Annenberg / GRoW – Gregory et Regina Annenberg Weingarten\, et Madame Aline Foriel-Destezet. \nCe concert est réalisé avec le soutien de l’Institut français à Paris et de la Ville de Paris\, ainsi que du Bureau export de la musique française. \nARTISTES \nLES TALENS LYRIQUES\nAmel Brahim-Djelloul\, soprano\nEugénie Warnier\, soprano\nMikko Perkola\, viole de gambe\nChristophe Rousset\, direction\, orgue et clavecin \nPROGRAMME \nF. COUPERIN\nPremière Suite des Pièces de viole\nDeuxième ordre des Pièces de clavecin (extrait)\nVingt-cinquième ordre des Pièces de clavecin (extraits)\nLeçons de ténèbres du Mercredi saint
URL:https://www.ludwig-van.com/montreal/event/arte-musica-talens-lyriques-christophe-rousset-ombre/
LOCATION:Salle Bourgie\, 1339 rue Sherbrooke Ouest\, Montréal\, Québec\, H3G 1G2\, Canada
CATEGORIES:Organ,Period ensemble,Vocal
ATTACH;FMTTYPE=image/jpeg:https://www.ludwig-van.com/montreal/wp-content/uploads/sites/3/2018/09/christopherousset.ignaciobarrios._mg_9406.jpg
GEO:45.4991991;-73.57963
X-APPLE-STRUCTURED-LOCATION;VALUE=URI;X-ADDRESS=Salle Bourgie 1339 rue Sherbrooke Ouest Montréal Québec H3G 1G2 Canada;X-APPLE-RADIUS=500;X-TITLE=1339 rue Sherbrooke Ouest:geo:-73.57963,45.4991991
END:VEVENT
END:VCALENDAR