BEGIN:VCALENDAR
VERSION:2.0
PRODID:-//Ludwig Van Montreal - ECPv5.9.1//NONSGML v1.0//EN
CALSCALE:GREGORIAN
METHOD:PUBLISH
X-WR-CALNAME:Ludwig Van Montreal
X-ORIGINAL-URL:https://www.ludwig-van.com/montreal
X-WR-CALDESC:évènements pour Ludwig Van Montreal
BEGIN:VTIMEZONE
TZID:America/Toronto
BEGIN:DAYLIGHT
TZOFFSETFROM:-0500
TZOFFSETTO:-0400
TZNAME:EDT
DTSTART:20240310T070000
END:DAYLIGHT
BEGIN:STANDARD
TZOFFSETFROM:-0400
TZOFFSETTO:-0500
TZNAME:EST
DTSTART:20241103T060000
END:STANDARD
END:VTIMEZONE
BEGIN:VEVENT
DTSTART;TZID=America/Toronto:20240424T193000
DTEND;TZID=America/Toronto:20240424T213000
DTSTAMP:20260421T125024
CREATED:20231110T221020Z
LAST-MODIFIED:20231110T221020Z
UID:78873-1713987000-1713994200@www.ludwig-van.com
SUMMARY:Arte Musica - Salle Bourgie | Trio Wanderer
DESCRIPTION:On ne présente plus le Trio Wanderer\, l’un des ensembles de musique de chambre les plus connus au monde et à la discographie impressionnante. Couronné de trois Victoires de la musique\, il présentera un programme irrésistible qui saura plaire au public de la Salle Bourgie.
URL:https://www.ludwig-van.com/montreal/event/arte-musica-salle-bourgie-trio-wanderer/
LOCATION:Salle Bourgie\, 1339 rue Sherbrooke Ouest\, Montréal\, Québec\, H3G 1G2\, Canada
CATEGORIES:Chamber music
ATTACH;FMTTYPE=image/png:https://www.ludwig-van.com/montreal/wp-content/uploads/sites/3/2023/11/Trio-Wanderer.png
GEO:45.4991991;-73.57963
X-APPLE-STRUCTURED-LOCATION;VALUE=URI;X-ADDRESS=Salle Bourgie 1339 rue Sherbrooke Ouest Montréal Québec H3G 1G2 Canada;X-APPLE-RADIUS=500;X-TITLE=1339 rue Sherbrooke Ouest:geo:-73.57963,45.4991991
END:VEVENT
END:VCALENDAR