BEGIN:VCALENDAR
VERSION:2.0
PRODID:-//Ludwig Van Montreal - ECPv5.9.1//NONSGML v1.0//EN
CALSCALE:GREGORIAN
METHOD:PUBLISH
X-WR-CALNAME:Ludwig Van Montreal
X-ORIGINAL-URL:https://www.ludwig-van.com/montreal
X-WR-CALDESC:évènements pour Ludwig Van Montreal
BEGIN:VTIMEZONE
TZID:America/Toronto
BEGIN:DAYLIGHT
TZOFFSETFROM:-0500
TZOFFSETTO:-0400
TZNAME:EDT
DTSTART:20240310T070000
END:DAYLIGHT
BEGIN:STANDARD
TZOFFSETFROM:-0400
TZOFFSETTO:-0500
TZNAME:EST
DTSTART:20241103T060000
END:STANDARD
END:VTIMEZONE
BEGIN:VEVENT
DTSTART;TZID=America/Toronto:20240418T193000
DTEND;TZID=America/Toronto:20240418T213000
DTSTAMP:20260422T002336
CREATED:20231110T214251Z
LAST-MODIFIED:20231110T214251Z
UID:78863-1713468600-1713475800@www.ludwig-van.com
SUMMARY:Arte Musica - Salle Bourgie | Le Bal masqué et L'Histoire du Soldat
DESCRIPTION:Le grand baryton français François Le Roux\, qui s’est fait connaître comme le Pelléas de sa génération\, interprétera les mots du surréaliste Max Jacob\, mis en musique par Poulenc\, ainsi qu’un mimodrame de Ramuz et Stravinski. \nEn collaboration avec l’Orchestre Métropolitain
URL:https://www.ludwig-van.com/montreal/event/arte-musica-salle-bourgie-le-bal-masque-et-lhistoire-du-soldat/
LOCATION:Salle Bourgie\, 1339 rue Sherbrooke Ouest\, Montréal\, Québec\, H3G 1G2\, Canada
CATEGORIES:Orchestra
ATTACH;FMTTYPE=image/png:https://www.ludwig-van.com/montreal/wp-content/uploads/sites/3/2023/11/francois-le-roux.png
GEO:45.4991991;-73.57963
X-APPLE-STRUCTURED-LOCATION;VALUE=URI;X-ADDRESS=Salle Bourgie 1339 rue Sherbrooke Ouest Montréal Québec H3G 1G2 Canada;X-APPLE-RADIUS=500;X-TITLE=1339 rue Sherbrooke Ouest:geo:-73.57963,45.4991991
END:VEVENT
END:VCALENDAR