BEGIN:VCALENDAR
VERSION:2.0
PRODID:-//Ludwig Van Montreal - ECPv5.9.1//NONSGML v1.0//EN
CALSCALE:GREGORIAN
METHOD:PUBLISH
X-WR-CALNAME:Ludwig Van Montreal
X-ORIGINAL-URL:https://www.ludwig-van.com/montreal
X-WR-CALDESC:évènements pour Ludwig Van Montreal
BEGIN:VTIMEZONE
TZID:America/Toronto
BEGIN:DAYLIGHT
TZOFFSETFROM:-0500
TZOFFSETTO:-0400
TZNAME:EDT
DTSTART:20240310T070000
END:DAYLIGHT
BEGIN:STANDARD
TZOFFSETFROM:-0400
TZOFFSETTO:-0500
TZNAME:EST
DTSTART:20241103T060000
END:STANDARD
END:VTIMEZONE
BEGIN:VEVENT
DTSTART;TZID=America/Toronto:20240407T143000
DTEND;TZID=America/Toronto:20240407T163000
DTSTAMP:20260422T183429
CREATED:20231110T161915Z
LAST-MODIFIED:20231110T161915Z
UID:78846-1712500200-1712507400@www.ludwig-van.com
SUMMARY:Arte Musica - Salle Bourgie | Illia Ovcharenko & Alexander Kashpurin - Hommage à Rachmaninov #3
DESCRIPTION:En hommage à Sergueï Rachmaninov\, dont on célèbre en 2023 le 150e anniversaire de la naissance\, deux pianistes virtuoses\, renommés pour leur jeu raffiné et leurs qualités de chambristes\, interprètent de ses œuvres pour deux pianos. La Salle Bourgie est ravie d’accueillir pour la première fois ces musiciens d’exception.
URL:https://www.ludwig-van.com/montreal/event/arte-musica-salle-bourgie-illia-ovcharenko-alexander-kashpurin-hommage-rachmaninov-3/
LOCATION:Salle Bourgie\, 1339 rue Sherbrooke Ouest\, Montréal\, Québec\, H3G 1G2\, Canada
CATEGORIES:piano
ATTACH;FMTTYPE=image/png:https://www.ludwig-van.com/montreal/wp-content/uploads/sites/3/2023/11/Serguei-Rachmaninov.png
GEO:45.4991991;-73.57963
X-APPLE-STRUCTURED-LOCATION;VALUE=URI;X-ADDRESS=Salle Bourgie 1339 rue Sherbrooke Ouest Montréal Québec H3G 1G2 Canada;X-APPLE-RADIUS=500;X-TITLE=1339 rue Sherbrooke Ouest:geo:-73.57963,45.4991991
END:VEVENT
END:VCALENDAR