BEGIN:VCALENDAR
VERSION:2.0
PRODID:-//Ludwig Van Montreal - ECPv5.9.1//NONSGML v1.0//EN
CALSCALE:GREGORIAN
METHOD:PUBLISH
X-WR-CALNAME:Ludwig Van Montreal
X-ORIGINAL-URL:https://www.ludwig-van.com/montreal
X-WR-CALDESC:évènements pour Ludwig Van Montreal
BEGIN:VTIMEZONE
TZID:America/Toronto
BEGIN:DAYLIGHT
TZOFFSETFROM:-0500
TZOFFSETTO:-0400
TZNAME:EDT
DTSTART:20240310T070000
END:DAYLIGHT
BEGIN:STANDARD
TZOFFSETFROM:-0400
TZOFFSETTO:-0500
TZNAME:EST
DTSTART:20241103T060000
END:STANDARD
END:VTIMEZONE
BEGIN:VEVENT
DTSTART;TZID=America/Toronto:20240320T193000
DTEND;TZID=America/Toronto:20240320T213000
DTSTAMP:20260425T195501
CREATED:20231103T141600Z
LAST-MODIFIED:20231103T141600Z
UID:78750-1710963000-1710970200@www.ludwig-van.com
SUMMARY:Arte Musica - Salle Bourgie | Ema Nikolovska\, mezzo-soprano & Charles Richard-Hamelin\, piano
DESCRIPTION:Remarquée pour ses qualités dramatiques et son vaste répertoire\, la mezzo-soprano Ema Nikolovska a remporté plusieurs prix prestigieux\, dont le Ferrier Loveday Song Prize. Aux côtés du célèbre pianiste québécois Charles Richard-Hamelin\, elle présentera des mélodies et lieder de Schubert\, R. Strauss et Debussy.
URL:https://www.ludwig-van.com/montreal/event/arte-musica-salle-bourgie-ema-nikolovska-mezzo-soprano-charles-richard-hamelin-piano/
LOCATION:Salle Bourgie\, 1339 rue Sherbrooke Ouest\, Montréal\, Québec\, H3G 1G2\, Canada
CATEGORIES:Vocal
ATTACH;FMTTYPE=image/png:https://www.ludwig-van.com/montreal/wp-content/uploads/sites/3/2023/11/Ema-Nikolovska.png
GEO:45.4991991;-73.57963
X-APPLE-STRUCTURED-LOCATION;VALUE=URI;X-ADDRESS=Salle Bourgie 1339 rue Sherbrooke Ouest Montréal Québec H3G 1G2 Canada;X-APPLE-RADIUS=500;X-TITLE=1339 rue Sherbrooke Ouest:geo:-73.57963,45.4991991
END:VEVENT
END:VCALENDAR